BEGIN:VCALENDAR
VERSION:2.0
PRODID:-//Harvard Law School//NONSGML Events//EN
CALSCALE:GREGORIAN
X-WR-CALNAME:Harvard Law School - Events
X-ORIGINAL-URL:https://hls.harvard.edu/calendar/
X-WR-CALDESC:Harvard Law School - Events
BEGIN:VEVENT
UID:20251110T1959Z-1762804776.8587-EO-731891-1@10.73.0.4
STATUS:CONFIRMED
DTSTAMP:20260423T104807Z
CREATED:20251110T143150Z
LAST-MODIFIED:20251110T143150Z
DTSTART;TZID=America/New_York:20251120T180000
DTEND;TZID=America/New_York:20251120T193000
SUMMARY: Galleys | Journal on Legislation
DESCRIPTION: Please save the date for Volume 63.1 Galleys at 6pm on Thursda
 y\, November 20 in WCC 1019. All staff must attend either this session or t
 he session at 6pm on Monday\, November 24 in WCC 1023 to appear on the prin
 t masthead! Each session will last no more than one hour. There is no sign-
 up sheet\; please come to […]
X-ALT-DESC;FMTTYPE=text/html: <p>Please save the date for <strong>Volume 63
 .1 <span class="il">Galleys</span> at 6pm on Thursday\, November 20 in WCC 
 1019</strong>. All staff must attend either this session or the session at 
 <strong>6pm on Monday\, November 24 in WCC 1023 </strong>to appear on the p
 rint masthead! Each session will last no more than one hour.</p><p>There is
  no sign-up sheet\; please come to whichever session works best for you. Yo
 u will sign in when you arrive by checking the spelling of your name on the
  print masthead. <span class="il">Galleys</span> is the process by which we
  review the print proofs to catch any lingering errors before we send the v
 olume to print. We'll begin each session with more instructions.</p><p>Plea
 se email us at hlsjol@mail.law.harvard.edu if you have any questions. We're
  looking forward to seeing you soon - and we may have a merch drop as a tha
 nk you at <span class="il">Galleys</span> as well so stay tuned for that!</
 p>
CATEGORIES:Meeting
LOCATION:WCC 1019
GEO:0.000000;0.000000
ORGANIZER;CN="Aarushi Solanki":MAILTO:asolanki@jd27.law.harvard.edu
URL;VALUE=URI:https://hls.harvard.edu/events/galleys-journal-on-legislation
 /
END:VEVENT
BEGIN:VTIMEZONE
TZID:America/New_York
BEGIN:STANDARD
TZOFFSETFROM:-0400
TZOFFSETTO:-0500
DTSTART:20251102T060000
TZNAME:EST
END:STANDARD
END:VTIMEZONE
END:VCALENDAR
