BEGIN:VCALENDAR
VERSION:2.0
PRODID:-//Harvard Law School//NONSGML Events//EN
CALSCALE:GREGORIAN
X-WR-CALNAME:Harvard Law School - Events
X-ORIGINAL-URL:https://hls.harvard.edu/calendar/
X-WR-CALDESC:Harvard Law School - Events
BEGIN:VEVENT
UID:20251029T1325Z-1761744336.2993-EO-730433-1@10.73.9.43
STATUS:CONFIRMED
DTSTAMP:20260424T115117Z
CREATED:20251029T132125Z
LAST-MODIFIED:20251029T132215Z
DTSTART;TZID=America/New_York:20251106T170000
DTEND;TZID=America/New_York:20251106T180000
SUMMARY: Frames of Connection Gallery Opening
DESCRIPTION: Thurs\, 11/6 from 5-6pm in the Smith Campus Center 10th Fl Joi
 n students from across Harvard’s schools for a reception celebrating their 
 interfaith photo gallery and semester of dialogue. Snack on cheese and frui
 t\, write a postcard\, and enjoy the art and stories! Open to all. Please R
 SVP: https://docs.google.com/forms/d/e/1FAIpQLSdhU8VORyo0LbRjJynaKtVF3pttz5
 YbQ87gBxHNOijxfW6vWg/viewform
X-ALT-DESC;FMTTYPE=text/html: <div dir="ltr">Thurs\, 11/6 from 5-6pm in the
  Smith Campus Center 10th Fl</div><div dir="ltr"></div><div dir="ltr">Join 
 students from across Harvard's schools for a reception celebrating their in
 terfaith photo gallery and semester of dialogue. Snack on cheese and fruit\
 , write a postcard\, and enjoy the art and stories! Open to all.</div><div 
 dir="ltr"></div><div dir="ltr">Please <a href="https://docs.google.com/form
 s/d/e/1FAIpQLSdhU8VORyo0LbRjJynaKtVF3pttz5YbQ87gBxHNOijxfW6vWg/viewform">RS
 VP: https://docs.google.com/forms/d/e/1FAIpQLSdhU8VORyo0LbRjJynaKtVF3pttz5Y
 bQ87gBxHNOijxfW6vWg/viewform</a></div>
LOCATION:Smith Campus Center
GEO:0.000000;0.000000
ORGANIZER;CN="Kayla Kaszyca":MAILTO:kkaszyca@law.harvard.edu
URL;VALUE=URI:https://hls.harvard.edu/events/frames-of-connection-gallery-o
 pening/
ATTACH;FMTTYPE=image/png:https://hls.harvard.edu/wp-content/uploads/2025/10/Gallery-Opening-Invitation-Invitations.png
END:VEVENT
BEGIN:VTIMEZONE
TZID:America/New_York
BEGIN:STANDARD
TZOFFSETFROM:-0400
TZOFFSETTO:-0500
DTSTART:20251102T060000
TZNAME:EST
END:STANDARD
END:VTIMEZONE
END:VCALENDAR
