BEGIN:VCALENDAR
VERSION:2.0
PRODID:-//Harvard Law School//NONSGML Events//EN
CALSCALE:GREGORIAN
X-WR-CALNAME:Harvard Law School - Events
X-ORIGINAL-URL:https://hls.harvard.edu/calendar/
X-WR-CALDESC:Harvard Law School - Events
BEGIN:VEVENT
UID:20250326T1520Z-1743002454.7527-EO-696568-1@10.73.8.229
STATUS:CONFIRMED
DTSTAMP:20260421T215617Z
CREATED:20250326T132723Z
LAST-MODIFIED:20250326T132747Z
DTSTART;TZID=America/New_York:20250331T122000
DTEND;TZID=America/New_York:20250331T132000
SUMMARY: Foreign Affairs and Immigration
DESCRIPTION: Professors William Alford\, Sabrineh Ardalan\, Kristen Eichens
 ehr\, and Naz Modirzadeh will discuss “Foreign Affairs and Immigration” on 
 Mon\, 3/31 at 12:20pm in Milstein West. Professor Ruth Okediji will moderat
 e this third panel in a series titled\, The First 100 Days of the Second Tr
 ump Presidency.
X-ALT-DESC;FMTTYPE=text/html: <p>Professors William Alford\, Sabrineh Ardal
 an\, Kristen Eichensehr\, and Naz Modirzadeh will discuss “Foreign Affairs 
 and Immigration” on Mon\, 3/31 at 12:20pm in Milstein West.</p><p>Professor
  Ruth Okediji will moderate this third panel in a series titled\, The First
  100 Days of the Second Trump Presidency.</p>
CATEGORIES:Speaker/Panel
LOCATION:Milstein West
GEO:0.000000;0.000000
ORGANIZER;CN="Courtney Majocha":MAILTO:cmajocha@law.harvard.edu
URL;VALUE=URI:https://hls.harvard.edu/events/foreign-affairs-and-immigratio
 n/
ATTACH;FMTTYPE=image/png:https://hls.harvard.edu/wp-content/uploads/2025/03/100-days-3_31.png
END:VEVENT
BEGIN:VTIMEZONE
TZID:America/New_York
BEGIN:DAYLIGHT
TZOFFSETFROM:-0500
TZOFFSETTO:-0400
DTSTART:20250309T070000
TZNAME:EDT
END:DAYLIGHT
END:VTIMEZONE
END:VCALENDAR
