BEGIN:VCALENDAR
VERSION:2.0
PRODID:-//Harvard Law School//NONSGML Events//EN
CALSCALE:GREGORIAN
X-WR-CALNAME:Harvard Law School - Events
X-ORIGINAL-URL:https://hls.harvard.edu/calendar/
X-WR-CALDESC:Harvard Law School - Events
BEGIN:VEVENT
UID:20251013T1641Z-1760373708.1994-EO-727924-1@10.73.7.237
STATUS:CONFIRMED
DTSTAMP:20260424T115436Z
CREATED:20251013T161503Z
LAST-MODIFIED:20251014T130733Z
DTSTART;TZID=America/New_York:20251106T122000
DTEND;TZID=America/New_York:20251106T131500
SUMMARY: Finding Balance: Work and Life in Big Law
DESCRIPTION: Join First Class for a conversation with attorneys from multip
 le law firms as they share insights on navigating work-life balance and per
 sonal fulfillment in Big Law.
X-ALT-DESC;FMTTYPE=text/html: <p>Join First Class for a conversation with a
 ttorneys from multiple law firms as they share insights on navigating work-
 life balance and personal fulfillment in Big Law.</p>
LOCATION:WCC\; B015 Classroom
GEO:0;0
ORGANIZER;CN="API User":MAILTO:api@law.harvard.edu
URL;VALUE=URI:https://hls.harvard.edu/events/finding-balance-work-and-life-
 in-big-law/
END:VEVENT
BEGIN:VTIMEZONE
TZID:America/New_York
BEGIN:STANDARD
TZOFFSETFROM:-0400
TZOFFSETTO:-0500
DTSTART:20251102T060000
TZNAME:EST
END:STANDARD
END:VTIMEZONE
END:VCALENDAR
