BEGIN:VCALENDAR
VERSION:2.0
PRODID:-//Harvard Law School//NONSGML Events//EN
CALSCALE:GREGORIAN
X-WR-CALNAME:Harvard Law School - Events
X-ORIGINAL-URL:https://hls.harvard.edu/calendar/
X-WR-CALDESC:Harvard Law School - Events
BEGIN:VEVENT
UID:20251112T2046Z-1762980366.6379-EO-732048-1@10.73.7.213
STATUS:CONFIRMED
DTSTAMP:20260423T121812Z
CREATED:20251112T141328Z
LAST-MODIFIED:20251114T190014Z
DTSTART;TZID=America/New_York:20251121T121500
DTEND;TZID=America/New_York:20251121T133000
SUMMARY: Faith-Based Politics: Contemporary Implications of the Public Theo
 logies of Rev. Dr. Martin Luther King\, Jr. and Rev. Dr. Billy Graham
DESCRIPTION: Must faith be fused with a partisan political identity? In thi
 s lecture\, Professor Ping-cheung Lo\, Dean and Rebecca Stephan Professor o
 f Chinese Studies and Academic Dean for the Chinese Studies Center at Fulle
 r Seminary\, revisits the public theologies of Rev. Dr. Martin Luther King\
 , Jr. and the often-overlooked  later  ministry of Rev. Dr. Billy Graham […
 ]
X-ALT-DESC;FMTTYPE=text/html: <p><span data-teams="true">Must faith be fuse
 d with a partisan political identity? In this lecture\, <a href="https://fu
 ller.edu/faculty/ping-cheung-pc-lo/"><strong>Professor Ping-cheung Lo</stro
 ng></a>\, Dean and Rebecca Stephan Professor of Chinese Studies and Academi
 c Dean for the Chinese Studies Center at Fuller Seminary\, revisits the pub
 lic theologies of Rev. Dr. Martin Luther King\, Jr. and the often-overlooke
 d  later  ministry of Rev. Dr. Billy Graham to discern a broader\, more inc
 lusive model of faith-based politics. King’s “beloved community” centers un
 iversal moral goods—justice\, equality\, reconciliation—and insists that en
 ds and means cohere through love and nonviolence. Graham’s later ministry\,
  increasingly aligned with King’s vision\, warned against binding churches 
 to party platforms. Drawing out contemporary implications\, Professor Lo ca
 lls for reflections on both institutional roles (including churches) and pe
 rsonal civic engagement. Q&A to follow.</span></p><p>Lunch will be served. 
 Space is limited and registration is required. Register <a href="https://ha
 rvard.az1.qualtrics.com/jfe/form/SV_55pBatn6bo4ljNk">here</a>.</p>
CATEGORIES:Lecture
LOCATION:Hauser Hall\; 102 Malkin Classroom
GEO:0;0
ORGANIZER;CN="Tomas Felcman":MAILTO:tfelcman@law.harvard.edu
URL;VALUE=URI:https://hls.harvard.edu/events/faith-based-politics-contempor
 ary-implications-of-the-public-theologies-of-rev-dr-martin-luther-king-jr-a
 nd-rev-dr-billy-graham/
ATTACH;FMTTYPE=image/png:https://hls.harvard.edu/wp-content/uploads/2025/11/Lo.png
END:VEVENT
BEGIN:VTIMEZONE
TZID:America/New_York
BEGIN:STANDARD
TZOFFSETFROM:-0400
TZOFFSETTO:-0500
DTSTART:20251102T060000
TZNAME:EST
END:STANDARD
END:VTIMEZONE
END:VCALENDAR
