BEGIN:VCALENDAR
VERSION:2.0
PRODID:-//Harvard Law School//NONSGML Events//EN
CALSCALE:GREGORIAN
X-WR-CALNAME:Harvard Law School - Events
X-ORIGINAL-URL:https://hls.harvard.edu/calendar/
X-WR-CALDESC:Harvard Law School - Events
BEGIN:VEVENT
UID:20250926T2023Z-1758918206.9774-EO-724946-1@10.73.9.45
STATUS:CONFIRMED
DTSTAMP:20260424T101206Z
CREATED:20250925T201510Z
LAST-MODIFIED:20251006T191600Z
DTSTART;TZID=America/New_York:20251006T123000
DTEND;TZID=America/New_York:20251006T131500
SUMMARY: Faculty Perspectives on Mental Wellbeing
DESCRIPTION: Join The Well Working Group and DOS-CEEB for a panel conversat
 ion surrounding mental wellbeing. The panel discussion will be moderated by
  Gabrielle Lewis ’26 and Jen Domino\, SJD\, with Professor Michael Gregory\
 , Professor Sabrineh Ardalan\, Professor Dehlia Umunna\, and Professor Scot
 t Westfahl. Limited lunch available. Please RSVP here. Questions? Email dos
 ceeb@law.harvard.edu
X-ALT-DESC;FMTTYPE=text/html: <p>Join The Well Working Group and DOS-CEEB f
 or a panel conversation surrounding mental wellbeing. The panel discussion 
 will be moderated by Gabrielle Lewis ’26 and Jen Domino\, SJD\, with Profes
 sor Michael Gregory\, Professor Sabrineh Ardalan\, Professor Dehlia Umunna\
 , and Professor Scott Westfahl.</p><p>Limited lunch available. <a href="htt
 ps://harvard.az1.qualtrics.com/jfe/form/SV_cwHsW8tlWR3uZ82">Please RSVP her
 e</a>.</p><p>Questions? Email <a href="mailto:dosceeb@law.harvard.edu">dosc
 eeb@law.harvard.edu</a></p>
CATEGORIES:Program/Workshop
LOCATION:WCC 1010
GEO:0.000000;0.000000
ORGANIZER;CN="Krista Heilmann":MAILTO:kheilmann@law.harvard.edu
URL;VALUE=URI:https://hls.harvard.edu/events/faculty-perspectives-on-mental
 -wellbeing-2/
END:VEVENT
BEGIN:VTIMEZONE
TZID:America/New_York
BEGIN:DAYLIGHT
TZOFFSETFROM:-0500
TZOFFSETTO:-0400
DTSTART:20250309T070000
TZNAME:EDT
END:DAYLIGHT
END:VTIMEZONE
END:VCALENDAR
