BEGIN:VCALENDAR
VERSION:2.0
PRODID:-//Harvard Law School//NONSGML Events//EN
CALSCALE:GREGORIAN
X-WR-CALNAME:Harvard Law School - Events
X-ORIGINAL-URL:https://hls.harvard.edu/calendar/
X-WR-CALDESC:Harvard Law School - Events
BEGIN:VEVENT
UID:20260416T2132Z-1776375128.2059-EO-748375-1@10.73.0.19
STATUS:CONFIRMED
DTSTAMP:20260423T050805Z
CREATED:20260416T185942Z
LAST-MODIFIED:20260416T185942Z
DTSTART;TZID=America/New_York:20260425T200000
DTEND;TZID=America/New_York:20260425T220000
SUMMARY: Eleganza
DESCRIPTION: Posted on behalf of Black Community Arts and Student Theater (
 Black CAST) Eleganza was founded in 1994 under the Black cultural productio
 n organization\, Black Community Arts and Student Theater (Black CAST). We 
 have grown to become Harvard’s largest student-run event\, with a sold-out 
 crowd of over 1\,500+ attendees each year. This highly anticipated night is
  […]
X-ALT-DESC;FMTTYPE=text/html: <p><em>Posted on behalf of Black Community Ar
 ts and Student Theater (Black CAST)</em></p><p>Eleganza was founded in 1994
  under the Black cultural production organization\, Black Community Arts an
 d Student Theater (Black CAST). We have grown to become Harvard’s largest s
 tudent-run event\, with a sold-out crowd of over 1\,500+ attendees each yea
 r. This highly anticipated night is an opportunity for students of all iden
 tities to celebrate <strong>fashion\, dance\, music\, and expression</stron
 g> through our electric\, innovative show.</p><p>Join us for Eleganza '26 o
 n <strong>Saturday\, April 25th\, 2026 at 8:00 PM in the Bright-Landry Hock
 ey Arena</strong> for a night of unforgettable performances\, stunning look
 s\, and electric energy.</p><p>From runway to rhythm\, this year’s show exp
 lores what it means to be timeless — to honor the past\, embrace the presen
 t\, and step boldly into the future.</p><p>Get your <a href="https://docs.g
 oogle.com/forms/d/e/1FAIpQLSfQ3iMpRvVZn9mvsAjnsAAOrKUunQeo242-kwseeHJrA1MWS
 w/viewform" target="_blank" rel="noopener">TICKETS HERE</a>.</p><p>VIP at $
 35: floor access as well as a seat</p><p>GA at $30: seat only</p><p>Curious
 ? Get a sneak peek at <a href="https://www.eleganzashow.org/" target="_blan
 k" rel="noopener">https://www.eleganzashow.org/</a></p><p>@eleganzashow on 
 Instagram</p><p>Physical tickets will be distributed at select locations th
 e week of the show. Please reach out to <a href="mailto:harvardeleganza@gma
 il.com" target="_blank" rel="noopener">harvardeleganza@gmail.com</a> if you
  have any questions!</p>
LOCATION:Bright-Landry Hockey Center
GEO:0.000000;0.000000
ORGANIZER;CN="Kayla Kaszyca":MAILTO:kkaszyca@law.harvard.edu
URL;VALUE=URI:https://hls.harvard.edu/events/eleganza/
ATTACH;FMTTYPE=image/png:https://hls.harvard.edu/wp-content/uploads/2026/04/042526.png
END:VEVENT
BEGIN:VTIMEZONE
TZID:America/New_York
BEGIN:DAYLIGHT
TZOFFSETFROM:-0500
TZOFFSETTO:-0400
DTSTART:20260308T070000
TZNAME:EDT
END:DAYLIGHT
END:VTIMEZONE
END:VCALENDAR
