BEGIN:VCALENDAR
VERSION:2.0
PRODID:-//Harvard Law School//NONSGML Events//EN
CALSCALE:GREGORIAN
X-WR-CALNAME:Harvard Law School - Events
X-ORIGINAL-URL:https://hls.harvard.edu/calendar/
X-WR-CALDESC:Harvard Law School - Events
BEGIN:VEVENT
UID:20250919T1803Z-1758305026.1616-EO-723662-1@10.73.9.45
STATUS:CONFIRMED
DTSTAMP:20260423T104814Z
CREATED:20250919T144043Z
LAST-MODIFIED:20250919T144043Z
DTSTART;TZID=America/New_York:20250923T090000
DTEND;TZID=America/New_York:20250923T100000
RDATE;TZID=America/New_York:20251021T090000,20251118T090000
SUMMARY: Drop-ins with Student Financial Services About LIPP/SPIF
DESCRIPTION: A representative from the LIPP/SPIF office will hold drop-in o
 ffice hours in the OPIA suite to offer quick consults and answer general qu
 estions about the Low Income Protection Plan (LIPP)\, the HLS PSLF Based Pl
 an (the Plan) and Summer Public Interest Funding (SPIF). No need for an app
 ointment\; students will be served on a first-come\, first-served basis. Fo
 r in-depth advising\, please email lipp@law.harvard.edu or spif@law.harvard
 .edu.
X-ALT-DESC;FMTTYPE=text/html: <p>A representative from the LIPP/SPIF office
  will hold drop-in office hours in the OPIA suite to offer quick consults a
 nd answer general questions about the Low Income Protection Plan (LIPP)\, t
 he HLS PSLF Based Plan (the Plan) and Summer Public Interest Funding (SPIF)
 . No need for an appointment\; students will be served on a first-come\, fi
 rst-served basis. For in-depth advising\, please email <a href="mailto:lipp
 @law.harvard.edu">lipp@law.harvard.edu</a> or <a href="mailto:spif@law.harv
 ard.edu">spif@law.harvard.edu</a>.</p>
CATEGORIES:OPIA Events
LOCATION:OPIA Office - WCC 4039
GEO:0.000000;0.000000
ORGANIZER;CN="Kelly Garvin":MAILTO:kgarvin@law.harvard.edu
URL;VALUE=URI:https://hls.harvard.edu/events/drop-ins-with-student-financia
 l-services-about-lipp-spif/
END:VEVENT
BEGIN:VEVENT
UID:20250919T1803Z-1758305026.1616-EO-723662-1@10.73.9.45
STATUS:CONFIRMED
DTSTAMP:20260423T104814Z
CREATED:20250919T144043Z
LAST-MODIFIED:20250919T144043Z
DTSTART;TZID=America/New_York:20250923T090000
DTEND;TZID=America/New_York:20250923T100000
RDATE;TZID=America/New_York:20251021T090000,20251118T090000
SUMMARY: Drop-ins with Student Financial Services About LIPP/SPIF
DESCRIPTION: A representative from the LIPP/SPIF office will hold drop-in o
 ffice hours in the OPIA suite to offer quick consults and answer general qu
 estions about the Low Income Protection Plan (LIPP)\, the HLS PSLF Based Pl
 an (the Plan) and Summer Public Interest Funding (SPIF). No need for an app
 ointment\; students will be served on a first-come\, first-served basis. Fo
 r in-depth advising\, please email lipp@law.harvard.edu or spif@law.harvard
 .edu.
X-ALT-DESC;FMTTYPE=text/html: <p>A representative from the LIPP/SPIF office
  will hold drop-in office hours in the OPIA suite to offer quick consults a
 nd answer general questions about the Low Income Protection Plan (LIPP)\, t
 he HLS PSLF Based Plan (the Plan) and Summer Public Interest Funding (SPIF)
 . No need for an appointment\; students will be served on a first-come\, fi
 rst-served basis. For in-depth advising\, please email <a href="mailto:lipp
 @law.harvard.edu">lipp@law.harvard.edu</a> or <a href="mailto:spif@law.harv
 ard.edu">spif@law.harvard.edu</a>.</p>
CATEGORIES:OPIA Events
LOCATION:OPIA Office - WCC 4039
GEO:0.000000;0.000000
ORGANIZER;CN="Kelly Garvin":MAILTO:kgarvin@law.harvard.edu
URL;VALUE=URI:https://hls.harvard.edu/events/drop-ins-with-student-financia
 l-services-about-lipp-spif/
END:VEVENT
BEGIN:VEVENT
UID:20250919T1803Z-1758305026.1616-EO-723662-1@10.73.9.45
STATUS:CONFIRMED
DTSTAMP:20260423T104814Z
CREATED:20250919T144043Z
LAST-MODIFIED:20250919T144043Z
DTSTART;TZID=America/New_York:20250923T090000
DTEND;TZID=America/New_York:20250923T100000
RDATE;TZID=America/New_York:20251021T090000,20251118T090000
SUMMARY: Drop-ins with Student Financial Services About LIPP/SPIF
DESCRIPTION: A representative from the LIPP/SPIF office will hold drop-in o
 ffice hours in the OPIA suite to offer quick consults and answer general qu
 estions about the Low Income Protection Plan (LIPP)\, the HLS PSLF Based Pl
 an (the Plan) and Summer Public Interest Funding (SPIF). No need for an app
 ointment\; students will be served on a first-come\, first-served basis. Fo
 r in-depth advising\, please email lipp@law.harvard.edu or spif@law.harvard
 .edu.
X-ALT-DESC;FMTTYPE=text/html: <p>A representative from the LIPP/SPIF office
  will hold drop-in office hours in the OPIA suite to offer quick consults a
 nd answer general questions about the Low Income Protection Plan (LIPP)\, t
 he HLS PSLF Based Plan (the Plan) and Summer Public Interest Funding (SPIF)
 . No need for an appointment\; students will be served on a first-come\, fi
 rst-served basis. For in-depth advising\, please email <a href="mailto:lipp
 @law.harvard.edu">lipp@law.harvard.edu</a> or <a href="mailto:spif@law.harv
 ard.edu">spif@law.harvard.edu</a>.</p>
CATEGORIES:OPIA Events
LOCATION:OPIA Office - WCC 4039
GEO:0.000000;0.000000
ORGANIZER;CN="Kelly Garvin":MAILTO:kgarvin@law.harvard.edu
URL;VALUE=URI:https://hls.harvard.edu/events/drop-ins-with-student-financia
 l-services-about-lipp-spif/
END:VEVENT
BEGIN:VTIMEZONE
TZID:America/New_York
BEGIN:DAYLIGHT
TZOFFSETFROM:-0500
TZOFFSETTO:-0400
DTSTART:20250309T070000
TZNAME:EDT
END:DAYLIGHT
BEGIN:STANDARD
TZOFFSETFROM:-0400
TZOFFSETTO:-0500
DTSTART:20251102T060000
TZNAME:EST
END:STANDARD
END:VTIMEZONE
END:VCALENDAR
