BEGIN:VCALENDAR
VERSION:2.0
PRODID:-//Harvard Law School//NONSGML Events//EN
CALSCALE:GREGORIAN
X-WR-CALNAME:Harvard Law School - Events
X-ORIGINAL-URL:https://hls.harvard.edu/calendar/
X-WR-CALDESC:Harvard Law School - Events
BEGIN:VEVENT
UID:20250827T1756Z-1756317397.448-EO-719146-1@10.73.0.12
STATUS:CONFIRMED
DTSTAMP:20260423T205847Z
CREATED:20250827T152826Z
LAST-MODIFIED:20250827T152826Z
DTSTART;TZID=America/New_York:20250905T200000
DTEND;TZID=America/New_York:20250905T210000
RDATE;TZID=America/New_York:20250906T200000
SUMMARY: DroneArt Show: A Music and Drone Show
DESCRIPTION: The previously sold-out DroneArt Show: A Music and Drone Show 
 returns to Boston! As night falls\, hundreds of illuminated drones take off
 \, creating stunning shapes in the sky that move in time with live classica
 l music. Choreographed perfectly to the music\, this open-air concert paint
 s the night with light\, color\, and wonder\, a true concert […]
X-ALT-DESC;FMTTYPE=text/html: <p style="font-weight: 400\;">The previously 
 sold-out DroneArt Show: A Music and Drone Show returns to Boston! As night 
 falls\, hundreds of illuminated drones take off\, creating stunning shapes 
 in the sky that move in time with live classical music.</p><p style="font-w
 eight: 400\;">Choreographed perfectly to the music\, this open-air concert 
 paints the night with light\, color\, and wonder\, a true concert in the sk
 y.</p><p><strong>Highlights</strong><br />🌟 A world-renowned drone show fea
 turing hundreds of synchronized drones<br />🌌 Dazzling aerial choreography 
 transforms the night sky into a canvas of stars\, flowers\, and more!<br />
 🔥 A unique setting that enhances the magic of the open-air experience<br />
 🎶 Live string music serves as the perfect backdrop for this visual spectacl
 e</p><p><strong>General Info</strong><br />🕒 Showtime: 8 p.m.<br />⏳ Durati
 on: 65 minutes. Gates open at 6 p.m. Late entry after showtime may not be p
 ermitted<br />📍 Location: Ohiri Field\, Harvard University - 95 N Harvard S
 t\, Boston\, MA 02134</p><p style="font-weight: 400\;"><strong>Harvard Affi
 liate Discount Tickets: </strong><a href="https://feverup.com/m/406847?c=ha
 rvard-university-discount" data-outlook-id="c3a5b047-5c77-4750-bcca-4a5f864
 68ca4">https://feverup.com/m/406847?c=harvard-university-discount</a></p>
ORGANIZER;CN="Kayla Kaszyca":MAILTO:kkaszyca@law.harvard.edu
URL;VALUE=URI:https://hls.harvard.edu/events/droneart-show-a-music-and-dron
 e-show/
END:VEVENT
BEGIN:VEVENT
UID:20250827T1756Z-1756317397.448-EO-719146-1@10.73.0.12
STATUS:CONFIRMED
DTSTAMP:20260423T205847Z
CREATED:20250827T152826Z
LAST-MODIFIED:20250827T152826Z
DTSTART;TZID=America/New_York:20250905T200000
DTEND;TZID=America/New_York:20250905T210000
RDATE;TZID=America/New_York:20250906T200000
SUMMARY: DroneArt Show: A Music and Drone Show
DESCRIPTION: The previously sold-out DroneArt Show: A Music and Drone Show 
 returns to Boston! As night falls\, hundreds of illuminated drones take off
 \, creating stunning shapes in the sky that move in time with live classica
 l music. Choreographed perfectly to the music\, this open-air concert paint
 s the night with light\, color\, and wonder\, a true concert […]
X-ALT-DESC;FMTTYPE=text/html: <p style="font-weight: 400\;">The previously 
 sold-out DroneArt Show: A Music and Drone Show returns to Boston! As night 
 falls\, hundreds of illuminated drones take off\, creating stunning shapes 
 in the sky that move in time with live classical music.</p><p style="font-w
 eight: 400\;">Choreographed perfectly to the music\, this open-air concert 
 paints the night with light\, color\, and wonder\, a true concert in the sk
 y.</p><p><strong>Highlights</strong><br />🌟 A world-renowned drone show fea
 turing hundreds of synchronized drones<br />🌌 Dazzling aerial choreography 
 transforms the night sky into a canvas of stars\, flowers\, and more!<br />
 🔥 A unique setting that enhances the magic of the open-air experience<br />
 🎶 Live string music serves as the perfect backdrop for this visual spectacl
 e</p><p><strong>General Info</strong><br />🕒 Showtime: 8 p.m.<br />⏳ Durati
 on: 65 minutes. Gates open at 6 p.m. Late entry after showtime may not be p
 ermitted<br />📍 Location: Ohiri Field\, Harvard University - 95 N Harvard S
 t\, Boston\, MA 02134</p><p style="font-weight: 400\;"><strong>Harvard Affi
 liate Discount Tickets: </strong><a href="https://feverup.com/m/406847?c=ha
 rvard-university-discount" data-outlook-id="c3a5b047-5c77-4750-bcca-4a5f864
 68ca4">https://feverup.com/m/406847?c=harvard-university-discount</a></p>
ORGANIZER;CN="Kayla Kaszyca":MAILTO:kkaszyca@law.harvard.edu
URL;VALUE=URI:https://hls.harvard.edu/events/droneart-show-a-music-and-dron
 e-show/
END:VEVENT
BEGIN:VTIMEZONE
TZID:America/New_York
BEGIN:DAYLIGHT
TZOFFSETFROM:-0500
TZOFFSETTO:-0400
DTSTART:20250309T070000
TZNAME:EDT
END:DAYLIGHT
END:VTIMEZONE
END:VCALENDAR
