BEGIN:VCALENDAR
VERSION:2.0
PRODID:-//Harvard Law School//NONSGML Events//EN
CALSCALE:GREGORIAN
X-WR-CALNAME:Harvard Law School - Events
X-ORIGINAL-URL:https://hls.harvard.edu/calendar/
X-WR-CALDESC:Harvard Law School - Events
BEGIN:VEVENT
UID:20241025T0320Z-1729826424.6104-EO-675675-1@10.73.8.218
STATUS:CONFIRMED
DTSTAMP:20260422T055012Z
CREATED:20241024T205757Z
LAST-MODIFIED:20241024T205757Z
DTSTART;TZID=America/New_York:20241031T122000
DTEND;TZID=America/New_York:20241031T132000
SUMMARY: Disability Rights and Access to the Ballot
DESCRIPTION: The Harvard Civil Rights-Civil Liberties Law Review\, the Harv
 ard Disabled Law Students Association\, Harvard Law School Project on Disab
 ility\, and the Equal Democracy Project at HLS are co-hosting a lunch panel
  event on disability rights and access to the ballot on October 31\, 2024. 
 The event will feature Tatum A. Pritchard\, Director of Litigation at […]
X-ALT-DESC;FMTTYPE=text/html: <div class="gmail_default"><span style="font-
 family: garamond\, times new roman\, serif\;" data-removefontsize="true" da
 ta-originalcomputedfontsize="16">The Harvard Civil Rights-Civil Liberties L
 aw Review\, the Harvard Disabled Law Students Association\, Harvard Law Sch
 ool Project on Disability\, and the Equal Democracy Project at HLS are co-h
 osting a lunch panel event on disability rights and access to the ballot on
  October 31\, 2024. The event will feature Tatum A. Pritchard\, Director of
  Litigation at the Disability Law Center\; Rebecca Williford\, President & 
 CEO of Disability Rights Advocates\; and Elizabeth Westfall\, Deputy Chief 
 of the DOJ Civil Rights Division\, Disability Rights Section. During the 20
 20 election\, over 11% of voters with disabilities reported they faced chal
 lenges casting a ballot. Attacks on voting rights place the biggest burden 
 on people of color and people with disabilities. Panelists will discuss the
 ir voting advocacy work to ensure accessibility and prevent barriers to vot
 ing for people with disabilities. Panelists engage in a spectrum of advocac
 y work to fight for civic inclusion of people with disabilities including l
 itigation\, monitoring\, and public education. Professor Michael Stein\, co
 -founder and Executive Director of the Harvard Law School Project on Disabi
 lity\, will moderate the event.</span></div><div class="gmail_default"><spa
 n style="font-family: garamond\, times new roman\, serif\;" data-removefont
 size="true" data-originalcomputedfontsize="16"><b data-removefontsize="true
 " data-originalcomputedfontsize="16">Lunch Provided</b>. See here for more.
  </span></div>
CATEGORIES:Speaker/Panel
LOCATION:WCC B010
GEO:0.000000;0.000000
ORGANIZER;CN="Grace Cawdrey":MAILTO:gcawdrey@jd25.law.harvard.edu
URL;VALUE=URI:https://hls.harvard.edu/events/disability-rights-and-access-t
 o-the-ballot/
ATTACH;FMTTYPE=image/png:https://hls.harvard.edu/wp-content/uploads/2024/10/IMG_4620.png
END:VEVENT
BEGIN:VTIMEZONE
TZID:America/New_York
BEGIN:DAYLIGHT
TZOFFSETFROM:-0500
TZOFFSETTO:-0400
DTSTART:20240310T070000
TZNAME:EDT
END:DAYLIGHT
END:VTIMEZONE
END:VCALENDAR
