BEGIN:VCALENDAR
VERSION:2.0
PRODID:-//Harvard Law School//NONSGML Events//EN
CALSCALE:GREGORIAN
X-WR-CALNAME:Harvard Law School - Events
X-ORIGINAL-URL:https://hls.harvard.edu/calendar/
X-WR-CALDESC:Harvard Law School - Events
BEGIN:VEVENT
UID:20250115T0059Z-1736902751.2482-EO-684609-1@10.73.11.44
STATUS:CONFIRMED
DTSTAMP:20260422T055257Z
CREATED:20250114T190032Z
LAST-MODIFIED:20250114T190032Z
DTSTART;TZID=America/New_York:20250204T122000
DTEND;TZID=America/New_York:20250204T132000
SUMMARY: Disability Rights Advocacy and Legalism in South Korea and Japan
DESCRIPTION: “Disability Rights Advocacy and Legalism in South Korea and Ja
 pan” Celeste Arrington\, Korea Foundation Associate Professor of Political 
 Science and International Affairs\, George Washington University Disability
  rights advocates in South Korea and Japan have accessed the courts to addr
 ess an array of disability rights issues\, from barriers to political parti
 cipation and forced sterilization in Japan […]
X-ALT-DESC;FMTTYPE=text/html: <p><strong>“Disability Rights Advocacy and Le
 galism in South Korea and Japan”<br /></strong><strong>Celeste Arrington</s
 trong>\,<br />Korea Foundation Associate Professor of Political Science and
  International Affairs\, George Washington University</p><p>Disability righ
 ts advocates in South Korea and Japan have accessed the courts to address a
 n array of disability rights issues\, from barriers to political participat
 ion and forced sterilization in Japan to the inaccessibility of inter-city 
 buses and forced labor on salt farms in South Korea. In her talk\, Professo
 r Celeste Arrington will analyze the emergence of legalism in South Korea a
 nd Japan\, through comparisons of recent reforms related to disability disc
 rimination and accessibility.</p><p>This talk's focus will be the specific 
 contributions to the trend towards legalism in Japan and Korea by disabilit
 y "cause" lawyers. This growing cohort of legal advocates have drafted and 
 deliberated new legislation\, lobbied for policy changes\, enhanced the cap
 acity of disabled persons’ organizations\, investigated human rights condit
 ions\, established mechanisms for remedying rights violations\, monitored c
 ompliance with the 2006 United Nations Convention on the Rights of Persons 
 with Disabilities\, and represented persons with disabilities in court. Not
  only have these efforts helped to advance the rights of persons with disab
 ilities\, they have also made an impact on South Korea's and Japan's legal 
 systems more broadly.</p><p>As chronicled in Professor Arrington's forthcom
 ing book\, <em>From Manners to Rules: Advocating for Legalism in South Kore
 a and Japan</em> (Cambridge Studies in Law and Society)\, in addition to im
 portant disability rights gains\, disability rights advocates have made not
 able contributions to the emergence of more formal rules and participatory 
 policymaking and enforcement\, including through the courts. These markers 
 of emerging legal formalism represent a change since governance in both cou
 ntries was long known for relying on vague laws\, bureaucratic discretion\,
  and nonbinding exhortations. While existing studies of legalism and the br
 oader judicialization of politics tend to offer top-down or structural expl
 anations\, Professor Arrington's forthcoming book traces how activists and 
 lawyers are contributing to the legalistic turn in regulatory style from th
 e bottom up by demanding more detailed and enforceable legal frameworks and
  using them in court.</p><p><strong>Celeste Arrington</strong> is Korea Fou
 ndation Associate Professor of Political Science and International Affairs 
 at George Washington University. She is the Director of the GW Institute fo
 r Korea Studies and Co-Director of the East Asia National Resource Center (
 2024-present). She specializes in comparative public policy\, law and socia
 l change\, lawyers\, and governance\, with a regional focus on the Koreas a
 nd Japan. She is also interested in Northeast Asian security\, North Korean
  human rights\, and transnational activism. Her first book was <em>Accident
 al Activists: Victim Movements and Governmental Accountability in Japan and
  South Korea</em> (Cornell\, 2016). She has published numerous articles and
  she coedited <em>Rights Claiming in South Korea</em> with Patricia Goedde 
 (Cambridge\, 2021). Her forthcoming book analyzes the legalistic turn in Ko
 rean and Japanese regulatory style through paired case studies related to t
 obacco control and disability rights. She received a PhD from UC Berkeley\,
  an MPhil from the University of Cambridge\, and an AB from Princeton Unive
 rsity. She has been a fellow at the Program on U.S.-Japan Relations at Harv
 ard\, the Institute for Advanced Study in Princeton\, and the Ludwig Maximi
 lians University in Munich. GW’s Office of the Vice President for Research 
 awarded her the 2021 Early Career Research Scholar Award. Her article with 
 Claudia Kim\, “Knowledge Production Through Legal Mobilization: Environment
 al Activism Against the U.S. Military Bases in East Asia\,” won the 2023 As
 ian Law and Society Association’s distinguished article award.</p><p>A ligh
 t lunch will be provided.</p><p>Co-sponsored by East Asian Legal Studies\, 
 the Harvard Law School Project on Disability\, the Korea Institute\, the Re
 ischauer Foundation\, and the Program on U.S.-Japan Relations.</p>
CATEGORIES:Speaker/Panel
LOCATION:Austin Hall\; 308 Morgan Meeting Room
GEO:0;0
ORGANIZER;CN="Deborah Han":MAILTO:debhan@law.harvard.edu
URL;VALUE=URI:https://hls.harvard.edu/events/disability-rights-advocacy-and
 -legalism-in-south-korea-and-japan/
ATTACH;FMTTYPE=image/png:https://hls.harvard.edu/wp-content/uploads/2025/01/Celeste-Arrington-250204-Horizontal-06.png
END:VEVENT
BEGIN:VTIMEZONE
TZID:America/New_York
BEGIN:STANDARD
TZOFFSETFROM:-0400
TZOFFSETTO:-0500
DTSTART:20241103T060000
TZNAME:EST
END:STANDARD
END:VTIMEZONE
END:VCALENDAR
