BEGIN:VCALENDAR
VERSION:2.0
PRODID:-//Harvard Law School//NONSGML Events//EN
CALSCALE:GREGORIAN
X-WR-CALNAME:Harvard Law School - Events
X-ORIGINAL-URL:https://hls.harvard.edu/calendar/
X-WR-CALDESC:Harvard Law School - Events
BEGIN:VEVENT
UID:20241202T1617Z-1733156243.5486-EO-680046-1@10.73.11.44
STATUS:CONFIRMED
DTSTAMP:20260423T065936Z
CREATED:20241202T154732Z
LAST-MODIFIED:20260323T192429Z
DTSTART;TZID=America/New_York:20241203T123000
DTEND;TZID=America/New_York:20241203T131500
SUMMARY: Denouncing Our Undemocratic and Discriminatory Student Government 
 (& Pizza)
DESCRIPTION: Join Alliance for Israel as we discuss the undemocratic and di
 scriminatory procedures and actions of our student government. Kosher pizza
  will be served.
X-ALT-DESC;FMTTYPE=text/html: <p>Join Alliance for Israel as we discuss the
  undemocratic and discriminatory procedures and actions of our student gove
 rnment. Kosher pizza will be served.</p>
LOCATION:WCC\; 3019 Classroom
GEO:0;0
ORGANIZER;CN="API User":MAILTO:api@law.harvard.edu
URL;VALUE=URI:https://hls.harvard.edu/events/denouncing-our-undemocratic-an
 d-discriminatory-student-government-pizza/
END:VEVENT
BEGIN:VTIMEZONE
TZID:America/New_York
BEGIN:STANDARD
TZOFFSETFROM:-0400
TZOFFSETTO:-0500
DTSTART:20241103T060000
TZNAME:EST
END:STANDARD
END:VTIMEZONE
END:VCALENDAR
