BEGIN:VCALENDAR
VERSION:2.0
PRODID:-//Harvard Law School//NONSGML Events//EN
CALSCALE:GREGORIAN
X-WR-CALNAME:Harvard Law School - Events
X-ORIGINAL-URL:https://hls.harvard.edu/calendar/
X-WR-CALDESC:Harvard Law School - Events
BEGIN:VEVENT
UID:20250903T2222Z-1756938161.4488-EO-720530-1@10.73.0.97
STATUS:CONFIRMED
DTSTAMP:20260423T192911Z
CREATED:20250903T184711Z
LAST-MODIFIED:20250903T184711Z
DTSTART;TZID=America/New_York:20251028T150000
DTEND;TZID=America/New_York:20251028T160000
RRULE:FREQ=DAILY;INTERVAL=1;UNTIL=20251030T190000Z
SUMMARY: Creepy Collections & Haunted Halls Tour
DESCRIPTION: Harvard Law School Library Presents: Creepy Collections & Haun
 ted Halls Tour Please join us for our annual celebration of all things spoo
 ky! Tour the Library’s haunted history of wraiths\, witches\, and wicked wo
 rks in this exciting Halloween-themed experience. You will get to see ghoul
 ish and ghastly items on display that come out of the Harvard […]
X-ALT-DESC;FMTTYPE=text/html: <p lang="EN-US" xml:lang="EN-US"><strong>Harv
 ard Law School Library Presents: Creepy Collections & Haunted Halls Tour</s
 trong></p><p lang="EN-US" xml:lang="EN-US">Please join us for our annual ce
 lebration of all things spooky! Tour the Library’s haunted history of wrait
 hs\, witches\, and wicked works in this exciting Halloween-themed experienc
 e. You will get to see ghoulish and ghastly items on display that come out 
 of the Harvard Law School Library Historical & Special Collections only onc
 e a year!</p><p lang="EN-US" xml:lang="EN-US">Max 15 souls per tour. Tours 
 will begin in the lobby of the Harvard Law School Library. Look for the whi
 msical guide with the green cloak and lantern! And please do arrive early\,
  we wouldn't want you to get lost in these haunted halls...</p>
CATEGORIES:Performance
ORGANIZER;CN="Julie Vakoc":MAILTO:jvakoc@law.harvard.edu
URL;VALUE=URI:https://hls.harvard.edu/events/creepy-collections-haunted-hal
 ls-tour-2/
ATTACH;FMTTYPE=image/jpeg:https://hls.harvard.edu/wp-content/uploads/2025/09/HLSL-2025-Haunted-Poster.jpg
END:VEVENT
BEGIN:VEVENT
UID:20250903T2222Z-1756938161.4488-EO-720530-1@10.73.0.97
STATUS:CONFIRMED
DTSTAMP:20260423T192911Z
CREATED:20250903T184711Z
LAST-MODIFIED:20250903T184711Z
DTSTART;TZID=America/New_York:20251028T150000
DTEND;TZID=America/New_York:20251028T160000
RRULE:FREQ=DAILY;INTERVAL=1;UNTIL=20251030T190000Z
SUMMARY: Creepy Collections & Haunted Halls Tour
DESCRIPTION: Harvard Law School Library Presents: Creepy Collections & Haun
 ted Halls Tour Please join us for our annual celebration of all things spoo
 ky! Tour the Library’s haunted history of wraiths\, witches\, and wicked wo
 rks in this exciting Halloween-themed experience. You will get to see ghoul
 ish and ghastly items on display that come out of the Harvard […]
X-ALT-DESC;FMTTYPE=text/html: <p lang="EN-US" xml:lang="EN-US"><strong>Harv
 ard Law School Library Presents: Creepy Collections & Haunted Halls Tour</s
 trong></p><p lang="EN-US" xml:lang="EN-US">Please join us for our annual ce
 lebration of all things spooky! Tour the Library’s haunted history of wrait
 hs\, witches\, and wicked works in this exciting Halloween-themed experienc
 e. You will get to see ghoulish and ghastly items on display that come out 
 of the Harvard Law School Library Historical & Special Collections only onc
 e a year!</p><p lang="EN-US" xml:lang="EN-US">Max 15 souls per tour. Tours 
 will begin in the lobby of the Harvard Law School Library. Look for the whi
 msical guide with the green cloak and lantern! And please do arrive early\,
  we wouldn't want you to get lost in these haunted halls...</p>
CATEGORIES:Performance
ORGANIZER;CN="Julie Vakoc":MAILTO:jvakoc@law.harvard.edu
URL;VALUE=URI:https://hls.harvard.edu/events/creepy-collections-haunted-hal
 ls-tour-2/
ATTACH;FMTTYPE=image/jpeg:https://hls.harvard.edu/wp-content/uploads/2025/09/HLSL-2025-Haunted-Poster.jpg
END:VEVENT
BEGIN:VEVENT
UID:20250903T2222Z-1756938161.4488-EO-720530-1@10.73.0.97
STATUS:CONFIRMED
DTSTAMP:20260423T192911Z
CREATED:20250903T184711Z
LAST-MODIFIED:20250903T184711Z
DTSTART;TZID=America/New_York:20251028T150000
DTEND;TZID=America/New_York:20251028T160000
RRULE:FREQ=DAILY;INTERVAL=1;UNTIL=20251030T190000Z
SUMMARY: Creepy Collections & Haunted Halls Tour
DESCRIPTION: Harvard Law School Library Presents: Creepy Collections & Haun
 ted Halls Tour Please join us for our annual celebration of all things spoo
 ky! Tour the Library’s haunted history of wraiths\, witches\, and wicked wo
 rks in this exciting Halloween-themed experience. You will get to see ghoul
 ish and ghastly items on display that come out of the Harvard […]
X-ALT-DESC;FMTTYPE=text/html: <p lang="EN-US" xml:lang="EN-US"><strong>Harv
 ard Law School Library Presents: Creepy Collections & Haunted Halls Tour</s
 trong></p><p lang="EN-US" xml:lang="EN-US">Please join us for our annual ce
 lebration of all things spooky! Tour the Library’s haunted history of wrait
 hs\, witches\, and wicked works in this exciting Halloween-themed experienc
 e. You will get to see ghoulish and ghastly items on display that come out 
 of the Harvard Law School Library Historical & Special Collections only onc
 e a year!</p><p lang="EN-US" xml:lang="EN-US">Max 15 souls per tour. Tours 
 will begin in the lobby of the Harvard Law School Library. Look for the whi
 msical guide with the green cloak and lantern! And please do arrive early\,
  we wouldn't want you to get lost in these haunted halls...</p>
CATEGORIES:Performance
ORGANIZER;CN="Julie Vakoc":MAILTO:jvakoc@law.harvard.edu
URL;VALUE=URI:https://hls.harvard.edu/events/creepy-collections-haunted-hal
 ls-tour-2/
ATTACH;FMTTYPE=image/jpeg:https://hls.harvard.edu/wp-content/uploads/2025/09/HLSL-2025-Haunted-Poster.jpg
END:VEVENT
BEGIN:VTIMEZONE
TZID:America/New_York
BEGIN:DAYLIGHT
TZOFFSETFROM:-0500
TZOFFSETTO:-0400
DTSTART:20250309T070000
TZNAME:EDT
END:DAYLIGHT
END:VTIMEZONE
END:VCALENDAR
