BEGIN:VCALENDAR
VERSION:2.0
PRODID:-//Harvard Law School//NONSGML Events//EN
CALSCALE:GREGORIAN
X-WR-CALNAME:Harvard Law School - Events
X-ORIGINAL-URL:https://hls.harvard.edu/calendar/
X-WR-CALDESC:Harvard Law School - Events
BEGIN:VEVENT
UID:20250930T2250Z-1759272635.0194-EO-725552-1@10.73.8.204
STATUS:CONFIRMED
DTSTAMP:20260423T191207Z
CREATED:20250930T183556Z
LAST-MODIFIED:20250930T183556Z
DTSTART;TZID=America/New_York:20251028T120000
DTEND;TZID=America/New_York:20251028T130000
SUMMARY: Counting Sheep for Better Sleep
DESCRIPTION: Join the Center for Wellness and Health Promotion for a series
  of free\, virtual workshops focused on supporting the health and wellbeing
  of Harvard students! A good night’s sleep is key to many aspects of our we
 llbeing\, yet it’s often one of the first things we cut out when times get 
 stressful. In this workshop\, […]
X-ALT-DESC;FMTTYPE=text/html: <p class="p1">Join the Center for Wellness an
 d Health Promotion for a series of free\, virtual workshops focused on supp
 orting the health and wellbeing of Harvard students!</p><p class="p1">A goo
 d night’s sleep is key to many aspects of our wellbeing\, yet it’s often on
 e of the first things we cut out when times get stressful. In this workshop
 \, we’ll discuss barriers we face to getting a full night of sleep\, what m
 akes our sleep restful\, and share tips to all wake up feeling refreshed.</
 p><p class="p1"><a href="https://forms.office.com/pages/responsepage.aspx?i
 d=9CL6b2hFBUGtQy461HJpVwoVlqGosQxFnDuCMIL5N4FUNDAzWDVVMEhEMVBYRk9FWUpXRUJKW
 kYzMC4u&route=shorturl" target="_blank" rel="noopener">Register for Countin
 g Sheep for Better Sleep</a></p>
LOCATION:Zoom
GEO:40.712728;-74.006015
ORGANIZER;CN="Kayla Kaszyca":MAILTO:kkaszyca@law.harvard.edu
URL;VALUE=URI:https://hls.harvard.edu/events/counting-sheep-for-better-slee
 p/
END:VEVENT
BEGIN:VTIMEZONE
TZID:America/New_York
BEGIN:DAYLIGHT
TZOFFSETFROM:-0500
TZOFFSETTO:-0400
DTSTART:20250309T070000
TZNAME:EDT
END:DAYLIGHT
END:VTIMEZONE
END:VCALENDAR
