BEGIN:VCALENDAR
VERSION:2.0
PRODID:-//Harvard Law School//NONSGML Events//EN
CALSCALE:GREGORIAN
X-WR-CALNAME:Harvard Law School - Events
X-ORIGINAL-URL:https://hls.harvard.edu/calendar/
X-WR-CALDESC:Harvard Law School - Events
BEGIN:VEVENT
UID:20250202T1846Z-1738521994.0878-EO-687309-1@10.73.11.45
STATUS:CONFIRMED
DTSTAMP:20260423T200957Z
CREATED:20250130T214232Z
LAST-MODIFIED:20250321T150003Z
DTSTART;TZID=America/New_York:20250402T120000
DTEND;TZID=America/New_York:20250402T131500
SUMMARY: Conservation and Public Land Management in Alaska (with John Leshy
  and Robert Anderson)
DESCRIPTION: Please join us for a lunch conversation with Professor John Le
 shy and Professor Robert Anderson on the importance of the Alaska National 
 Interest Lands Conservation Act (ANILCA) and what it means for the people o
 f the United States and Alaska. Questions? Contact jcalahong@law.harvard.ed
 u Wednesday\, April 2nd from 12:20pm-1:15pm WCC 2009\, Wasserstein Building
 \, 1585 Massachusetts Avenue\, […]
X-ALT-DESC;FMTTYPE=text/html: <p>Please join us for a lunch conversation wi
 th Professor John Leshy and Professor Robert Anderson on the importance of 
 the Alaska National Interest Lands Conservation Act (ANILCA) and what it me
 ans for the people of the United States and Alaska. Questions?  Contact jca
 lahong@law.harvard.edu </p><p>Wednesday\, April 2nd from 12:20pm-1:15pm</p>
 <p>WCC 2009\, Wasserstein Building\, 1585 Massachusetts Avenue\, Harvard La
 w School</p><p>Register at https://bit.ly/3FCMPma or https://forms.gle/4MWG
 T8i5rjhiytz37</p><p>Sponsored by the Harvard Environmental Law Society (ELS
 )\, Harvard Environmental Law Review (HELR)\, Harvard Native American Law S
 tudents Association (NALSA)\, Emmett Environmental Law & Policy Clinic\, an
 d the Arctic Initiative at the Harvard Kennedy School Belfer Center for Sci
 ence and International Affairs. </p><p>Food will be provided – Please RSVP 
 so we know how much to order!</p>
LOCATION:WCC\; 2009 Classroom
GEO:0;0
ORGANIZER;CN="API User":MAILTO:api@law.harvard.edu
URL;VALUE=URI:https://hls.harvard.edu/events/conversation-with-professor-jo
 hn-leshy/
END:VEVENT
BEGIN:VTIMEZONE
TZID:America/New_York
BEGIN:DAYLIGHT
TZOFFSETFROM:-0500
TZOFFSETTO:-0400
DTSTART:20250309T070000
TZNAME:EDT
END:DAYLIGHT
END:VTIMEZONE
END:VCALENDAR
