BEGIN:VCALENDAR
VERSION:2.0
PRODID:-//Harvard Law School//NONSGML Events//EN
CALSCALE:GREGORIAN
X-WR-CALNAME:Harvard Law School - Events
X-ORIGINAL-URL:https://hls.harvard.edu/calendar/
X-WR-CALDESC:Harvard Law School - Events
BEGIN:VEVENT
UID:20250910T1747Z-1757526440.837-EO-722261-1@10.73.8.255
STATUS:CONFIRMED
DTSTAMP:20260423T180140Z
CREATED:20250910T172235Z
LAST-MODIFIED:20260323T191445Z
DTSTART;TZID=America/New_York:20250924T150000
DTEND;TZID=America/New_York:20250924T160000
SUMMARY: Conversation with Jonah Lalas
DESCRIPTION: We will have a conversation with Jonah Lalas\, Wasserstein Fel
 low and attorney at Altschuler Berzon.
X-ALT-DESC;FMTTYPE=text/html: <p>We will have a conversation with Jonah Lal
 as\, Wasserstein Fellow and attorney at Altschuler Berzon.</p>
LOCATION:WCC\; 3012 Room
GEO:0;0
ORGANIZER;CN="API User":MAILTO:api@law.harvard.edu
URL;VALUE=URI:https://hls.harvard.edu/events/conversation-with-jonah-lalas/
END:VEVENT
BEGIN:VTIMEZONE
TZID:America/New_York
BEGIN:DAYLIGHT
TZOFFSETFROM:-0500
TZOFFSETTO:-0400
DTSTART:20250309T070000
TZNAME:EDT
END:DAYLIGHT
END:VTIMEZONE
END:VCALENDAR
