BEGIN:VCALENDAR
VERSION:2.0
PRODID:-//Harvard Law School//NONSGML Events//EN
CALSCALE:GREGORIAN
X-WR-CALNAME:Harvard Law School - Events
X-ORIGINAL-URL:https://hls.harvard.edu/calendar/
X-WR-CALDESC:Harvard Law School - Events
BEGIN:VEVENT
UID:20241007T1809Z-1728324566.9272-EO-672602-1@10.73.8.248
STATUS:CONFIRMED
DTSTAMP:20260423T145738Z
CREATED:20241004T152856Z
LAST-MODIFIED:20241004T153308Z
DTSTART;TZID=America/New_York:20241104T180000
DTEND;TZID=America/New_York:20241104T200000
SUMMARY: Community Game Night
DESCRIPTION: Come on down! You’re invited to the Dean of Students Office’s 
 Community Game Night! On Monday\, November 4th from 6-8pm in Milstein East\
 , DOS will host a Family Feud style game night. Like Family Feud\, two team
 s will face off to answer survey questions. If they get them all\, they get
  to keep the points! If they get three strikes\, […]
X-ALT-DESC;FMTTYPE=text/html: <p>Come on down! You're invited to the Dean o
 f Students Office's Community Game Night!</p><p>On Monday\, November 4th fr
 om 6-8pm in Milstein East\, DOS will host a <em>Family Feud</em> style game
  night. Like <em>Family Feud</em>\, two teams will face off to answer surve
 y questions. If they get them all\, they get to keep the points! If they ge
 t three strikes\, the other team gets a chance to steal. The winning teams 
 from each match up will then face off to determine the grand champion!</p><
 p>Contestants will compete head-to-head in groups of 6. You may <a href="ht
 tps://harvard.az1.qualtrics.com/jfe/form/SV_3IP1EGTfgXmLAEu" target="_blank
 " rel="noopener">sign up</a> as a full team of 6\, or as an individual or s
 maller group. If you do not sign up with a full roster of 6\, you and your 
 group will be paired up with others to create a complete team.</p><p>Please
  complete <a href="https://harvard.az1.qualtrics.com/jfe/form/SV_3IP1EGTfgX
 mLAEu" target="_blank" rel="noopener">this form</a> to sign up as a team\, 
 small group\, or individual. Apps and beverages will be provided.</p>
CATEGORIES:Social Event
LOCATION:WCC\, Milstein East A
GEO:0.000000;0.000000
ORGANIZER;CN="Kayla Kaszyca":MAILTO:kkaszyca@law.harvard.edu
URL;VALUE=URI:https://hls.harvard.edu/events/community-game-night/
ATTACH;FMTTYPE=image/png:https://hls.harvard.edu/wp-content/uploads/2024/10/Community-Game-Night-1.png
END:VEVENT
BEGIN:VTIMEZONE
TZID:America/New_York
BEGIN:STANDARD
TZOFFSETFROM:-0400
TZOFFSETTO:-0500
DTSTART:20241103T060000
TZNAME:EST
END:STANDARD
END:VTIMEZONE
END:VCALENDAR
