BEGIN:VCALENDAR
VERSION:2.0
PRODID:-//Harvard Law School//NONSGML Events//EN
CALSCALE:GREGORIAN
X-WR-CALNAME:Harvard Law School - Events
X-ORIGINAL-URL:https://hls.harvard.edu/calendar/
X-WR-CALDESC:Harvard Law School - Events
BEGIN:VEVENT
UID:20250204T0215Z-1738635300.2446-EO-687505-1@10.73.9.11
STATUS:CONFIRMED
DTSTAMP:20260423T175916Z
CREATED:20250203T134233Z
LAST-MODIFIED:20250401T155002Z
DTSTART;TZID=America/New_York:20250408T121500
DTEND;TZID=America/New_York:20250408T131500
SUMMARY: Colonial Bureaucracy and Contemporary Citizenship with Yael Berda
DESCRIPTION: Yael Berda discusses her book “Colonial Bureaucracy and Contem
 porary Citizenship\,” which examines how the legacies of colonial bureaucra
 cy continue to shape political life after empire. Focusing on the former Br
 itish colonies of India\, Cyprus\, and Israel/Palestine\, the book explores
  how post-colonial states use their inherited administrative legacies to cl
 assify and distinguish between loyal and suspicious […]
X-ALT-DESC;FMTTYPE=text/html: <p>Yael Berda discusses her book "Colonial Bu
 reaucracy and Contemporary Citizenship\," which examines how the legacies o
 f colonial bureaucracy continue to shape political life after empire. Focus
 ing on the former British colonies of India\, Cyprus\, and Israel/Palestine
 \, the book explores how post-colonial states use their inherited administr
 ative legacies to classify and distinguish between loyal and suspicious sub
 jects and manage the movement of populations\, thus shaping the practical m
 eaning of citizenship and belonging within their new boundaries. The book o
 ffers a novel institutional theory of 'hybrid bureaucracy' to explain how r
 acialized bureaucratic practices were used by powerful administrators in st
 ate organizations to shape the making of political identity and belonging i
 n the new states. Combining law\, sociology and anthropology of the state w
 ith the study of institutions\, this book offers new knowledge to overturn 
 conventional understandings of bureaucracy\, demonstrating that routine bur
 eaucratic practices and persistent colonial logics continue to shape unequa
 l political status to this day.</p>
LOCATION:Hauser Hall\; 104 Lumbard Classroom
GEO:0;0
ORGANIZER;CN="API User":MAILTO:api@law.harvard.edu
URL;VALUE=URI:https://hls.harvard.edu/events/colonial-bureaucracy-and-conte
 mporary-citizenship-with-yael-berda/
END:VEVENT
BEGIN:VTIMEZONE
TZID:America/New_York
BEGIN:DAYLIGHT
TZOFFSETFROM:-0500
TZOFFSETTO:-0400
DTSTART:20250309T070000
TZNAME:EDT
END:DAYLIGHT
END:VTIMEZONE
END:VCALENDAR
