BEGIN:VCALENDAR
VERSION:2.0
PRODID:-//Harvard Law School//NONSGML Events//EN
CALSCALE:GREGORIAN
X-WR-CALNAME:Harvard Law School - Events
X-ORIGINAL-URL:https://hls.harvard.edu/calendar/
X-WR-CALDESC:Harvard Law School - Events
BEGIN:VEVENT
UID:20240916T2234Z-1726526066.3699-EO-668324-1@10.73.8.218
STATUS:CONFIRMED
DTSTAMP:20260425T095500Z
CREATED:20240916T181150Z
LAST-MODIFIED:20241011T135032Z
DTSTART;TZID=America/New_York:20241028T113000
DTEND;TZID=America/New_York:20241028T130000
SUMMARY: Clinical Student Workshop on Trauma-Informed Lawyering
DESCRIPTION: You are invited to a workshop for clinic students (past and pr
 esent) on how best to represent clients who have experienced trauma and how
  to practice trauma-informed lawyering.
X-ALT-DESC;FMTTYPE=text/html: <p>You are invited to a workshop for clinic s
 tudents (past and present) on how best to represent clients who have experi
 enced trauma and how to practice trauma-informed lawyering.  The session wi
 ll explore how experiences of trauma (both individual and systemic) impact 
 clients\, how trauma responses impact clients’ interactions with legal syst
 ems and the attorney-client relationship\, and how to integrate trauma-info
 rmed approaches into your advocacy for clients. This workshop will feature 
 presentations by a mental health professional and lawyers experienced in tr
 auma-informed lawyering and will allow students opportunities to workshop r
 eal-life examples to build their lawyering skills. Students will be invited
  to provide their feedback about the workshop at the conclusion of the sess
 ion.</p><p>Please RSVP here: <a href="https://forms.office.com/r/KEReFCxADa
 ">https://forms.office.com/r/KEReFCxADa</a></p><p>Organized by Dana Montalt
 o from the Veterans Law and Disability Law Clinic\, Jonathan Card from the 
 Health Law and Policy Clinic\, and Sabi Ardalan from the Harvard Immigratio
 n and Refugee Clinic.</p>
LOCATION:WCC\; 3019 Classroom
GEO:0;0
ORGANIZER;CN="Olivia Klein":MAILTO:oklein@law.harvard.edu
URL;VALUE=URI:https://hls.harvard.edu/events/clinical-student-workshop-on-t
 rauma-informed-lawyering/
END:VEVENT
BEGIN:VTIMEZONE
TZID:America/New_York
BEGIN:DAYLIGHT
TZOFFSETFROM:-0500
TZOFFSETTO:-0400
DTSTART:20240310T070000
TZNAME:EDT
END:DAYLIGHT
END:VTIMEZONE
END:VCALENDAR
