BEGIN:VCALENDAR
VERSION:2.0
PRODID:-//Harvard Law School//NONSGML Events//EN
CALSCALE:GREGORIAN
X-WR-CALNAME:Harvard Law School - Events
X-ORIGINAL-URL:https://hls.harvard.edu/calendar/
X-WR-CALDESC:Harvard Law School - Events
BEGIN:VEVENT
UID:20250211T1837Z-1739299036.5129-EO-688820-1@10.73.9.11
STATUS:CONFIRMED
DTSTAMP:20260421T055525Z
CREATED:20250210T205548Z
LAST-MODIFIED:20250212T205554Z
DTSTART;TZID=America/New_York:20250401T113000
DTEND;TZID=America/New_York:20250401T133000
SUMMARY: Clinical Program Open House and Academic Advising Fair
DESCRIPTION: Please join us for the clinical program open house and academi
 c advising fair. Clinical faculty and students from all 37 clinics will hos
 t tables so that rising 2Ls and 3Ls can learn more about each of our clinic
 al offerings. Additionally\, advisors from the Office of Clinical and Pro B
 ono Programs\, the Registrar’s Office\, OPIA\, OCS\, […]
X-ALT-DESC;FMTTYPE=text/html: <div class="js-hang-punc gutenberg-content"><
 p>Please join us for the clinical program open house and academic advising 
 fair. Clinical faculty and students from all 37 clinics will host tables so
  that rising 2Ls and 3Ls can learn more about each of our clinical offering
 s. Additionally\, advisors from the Office of Clinical and Pro Bono Program
 s\, the Registrar’s Office\, OPIA\, OCS\, Academic Affairs\, and more will 
 be there to answer your questions and advise you on topics ranging from wri
 ting at HLS\, degree audits\, and integrating coursework with your career p
 lan.</p></div>
CATEGORIES:Fair
LOCATION:WCC\; 2036 Milstein East ABC
GEO:0;0
ORGANIZER;CN="Olivia Klein":MAILTO:oklein@law.harvard.edu
URL;VALUE=URI:https://hls.harvard.edu/events/clinical-program-open-house-an
 d-academic-advising-fair/
ATTACH;FMTTYPE=image/png:https://hls.harvard.edu/wp-content/uploads/2025/02/Academic-Advising-banner.png
END:VEVENT
BEGIN:VTIMEZONE
TZID:America/New_York
BEGIN:DAYLIGHT
TZOFFSETFROM:-0500
TZOFFSETTO:-0400
DTSTART:20250309T070000
TZNAME:EDT
END:DAYLIGHT
END:VTIMEZONE
END:VCALENDAR
