BEGIN:VCALENDAR
VERSION:2.0
PRODID:-//Harvard Law School//NONSGML Events//EN
CALSCALE:GREGORIAN
X-WR-CALNAME:Harvard Law School - Events
X-ORIGINAL-URL:https://hls.harvard.edu/calendar/
X-WR-CALDESC:Harvard Law School - Events
BEGIN:VEVENT
UID:20260309T1418Z-1773065936.1246-EO-742979-1@10.73.7.214
STATUS:CONFIRMED
DTSTAMP:20260424T123306Z
CREATED:20260309T125513Z
LAST-MODIFIED:20260309T125513Z
DTSTART;TZID=America/New_York:20260309T122000
DTEND;TZID=America/New_York:20260309T132000
SUMMARY: Clinic Student Panel: Why Should I Take a Clinic?
DESCRIPTION: Start learning more about enrolling in a clinic next year befo
 re Course and Clinic Selection season begins! Hear from current clinic stud
 ents about the experience and ask them any questions that are on your mind.
  See the Clinical Registration Center for more information about enrolling 
 in a clinic. Join Zoom meeting here.
X-ALT-DESC;FMTTYPE=text/html: <p>Start learning more about enrolling in a c
 linic next year before <a href="https://hls.harvard.edu/academics/curriculu
 m/registration-information/">Course and Clinic Selection</a> season begins!
  Hear from current clinic students about the experience and ask them any qu
 estions that are on your mind. See the <a href="https://hls.harvard.edu/cli
 nics/clinical-registration-center/">Clinical Registration Center</a> for mo
 re information about enrolling in a clinic.</p><p><a href="https://urldefen
 se.proofpoint.com/v2/url?u=https-3A__harvard.zoom.us_meeting_register_IrkVg
 B4KSJOHJCzMQlKRug&d=DwMFaQ&c=WO-RGvefibhHBZq3fL85hQ&r=iNSsSpM-RoWAm8TeVnYA7
 m-30DulJlPf2uUEP-gxoWQ&m=TxF_lMX4-OrcDzzZe4NU_jrkT5veuWNsJG3ItgKOwAwOPTrBYA
 4TDZ2-pf5aRaPa&s=QD2Dbwya5z7awbtEVYh-jFBXbHlWslnNlJmHpWYUL0o&e=">Join Zoom 
 meeting here</a>.</p>
LOCATION:Zoom
GEO:40.712728;-74.006015
ORGANIZER;CN="Olivia Klein":MAILTO:oklein@law.harvard.edu
URL;VALUE=URI:https://hls.harvard.edu/events/clinic-student-panel-why-shoul
 d-i-take-a-clinic-2/
END:VEVENT
BEGIN:VTIMEZONE
TZID:America/New_York
BEGIN:DAYLIGHT
TZOFFSETFROM:-0500
TZOFFSETTO:-0400
DTSTART:20260308T070000
TZNAME:EDT
END:DAYLIGHT
END:VTIMEZONE
END:VCALENDAR
