BEGIN:VCALENDAR
VERSION:2.0
PRODID:-//Harvard Law School//NONSGML Events//EN
CALSCALE:GREGORIAN
X-WR-CALNAME:Harvard Law School - Events
X-ORIGINAL-URL:https://hls.harvard.edu/calendar/
X-WR-CALDESC:Harvard Law School - Events
BEGIN:VEVENT
UID:20250221T0850Z-1740127857.3039-EO-690569-1@10.73.10.94
STATUS:CONFIRMED
DTSTAMP:20260423T190720Z
CREATED:20250220T210434Z
LAST-MODIFIED:20250220T210434Z
DTSTART;TZID=America/New_York:20250226T121500
DTEND;TZID=America/New_York:20250226T131500
SUMMARY: Client Acquisition and Business Development in Plaintiffs’ Law
DESCRIPTION: Join Walkup Melodia for a conversation focused on client acqui
 sition and the process of working with individual\, non-corporate clients. 
 The discussion will also cover the business development aspects of plaintif
 fs’ law. Lunch will be provided! RSVP here.
X-ALT-DESC;FMTTYPE=text/html: <p>Join Walkup Melodia for a conversation foc
 used on client acquisition and the process of working with individual\, non
 -corporate clients. The discussion will also cover the business development
  aspects of plaintiffs' law. Lunch will be provided! RSVP <a href="https://
 harvard.us4.list-manage.com/track/click?u=a5067397d47cd750372d1a571&id=ce16
 8e5429&e=1ebeb36aa9" target="_blank" rel="noopener" data-saferedirecturl="h
 ttps://www.google.com/url?q=https://harvard.us4.list-manage.com/track/click
 ?u%3Da5067397d47cd750372d1a571%26id%3Dce168e5429%26e%3D1ebeb36aa9&source=gm
 ail&ust=1740171398836000&usg=AOvVaw00HV4CcBzee4Z2hc3fyQiI">here</a>.</p>
CATEGORIES:Firm Recruitment
LOCATION:WCC 3019
GEO:0.000000;0.000000
ORGANIZER;CN="Jenna Boguslavsky":MAILTO:jboguslavsky@jd27.law.harvard.edu
URL;VALUE=URI:https://hls.harvard.edu/events/client-acquisition-and-busines
 s-development-in-plaintiffs-law/
END:VEVENT
BEGIN:VTIMEZONE
TZID:America/New_York
BEGIN:STANDARD
TZOFFSETFROM:-0400
TZOFFSETTO:-0500
DTSTART:20241103T060000
TZNAME:EST
END:STANDARD
END:VTIMEZONE
END:VCALENDAR
