BEGIN:VCALENDAR
VERSION:2.0
PRODID:-//Harvard Law School//NONSGML Events//EN
CALSCALE:GREGORIAN
X-WR-CALNAME:Harvard Law School - Events
X-ORIGINAL-URL:https://hls.harvard.edu/calendar/
X-WR-CALDESC:Harvard Law School - Events
BEGIN:VEVENT
UID:20251024T2215Z-1761344122.6788-EO-729921-1@10.73.0.4
STATUS:CONFIRMED
DTSTAMP:20260424T115808Z
CREATED:20251024T194429Z
LAST-MODIFIED:20251024T194429Z
DTSTART;TZID=America/New_York:20251106T122000
DTEND;TZID=America/New_York:20251106T132000
SUMMARY: Chayes International Public Service Fellowship: Information and Ad
 vising Session
DESCRIPTION: The Chayes International Public Service Fellowships — open to 
 1Ls\, 2Ls\, and S.J.D.s in residence —provide HLS students with the opportu
 nity to spend eight weeks during the summer working abroad with governmenta
 l or non-governmental organizations concerned with issues of an internation
 al scope or relevant to countries in transition. Come talk with recent Chay
 es Fellows and International Legal […]
X-ALT-DESC;FMTTYPE=text/html: <p>The <a href="https://hls.harvard.edu/ils/o
 pportunities-abroad/summer-work-abroad/chayes-fellowships/">Chayes Internat
 ional Public Service Fellowships</a> — open to 1Ls\, 2Ls\, and S.J.D.s in r
 esidence —provide HLS students with the opportunity to spend eight weeks du
 ring the summer working abroad with governmental or non-governmental organi
 zations concerned with issues of an international scope or relevant to coun
 tries in transition.</p><p>Come talk with recent Chayes Fellows and Interna
 tional Legal Studies staff about potential placements\, the application pro
 cess\, and any other questions.</p><p>This session will also be held on Tue
 sday\, November 4.</p>
CATEGORIES:Advising,Information Session
LOCATION:Graduate Program Lounge\, WCC 5053
GEO:0.000000;0.000000
ORGANIZER;CN="Andre Barbic":MAILTO:abarbic@law.harvard.edu
URL;VALUE=URI:https://hls.harvard.edu/events/chayes-international-public-se
 rvice-fellowship-information-and-advising-session-3/
END:VEVENT
BEGIN:VTIMEZONE
TZID:America/New_York
BEGIN:STANDARD
TZOFFSETFROM:-0400
TZOFFSETTO:-0500
DTSTART:20251102T060000
TZNAME:EST
END:STANDARD
END:VTIMEZONE
END:VCALENDAR
