BEGIN:VCALENDAR
VERSION:2.0
PRODID:-//Harvard Law School//NONSGML Events//EN
CALSCALE:GREGORIAN
X-WR-CALNAME:Harvard Law School - Events
X-ORIGINAL-URL:https://hls.harvard.edu/calendar/
X-WR-CALDESC:Harvard Law School - Events
BEGIN:VEVENT
UID:20250805T0442Z-1754368948.2115-EO-715979-1@10.73.0.12
STATUS:CONFIRMED
DTSTAMP:20260424T151112Z
CREATED:20250804T140232Z
LAST-MODIFIED:20260323T211505Z
DTSTART;TZID=America/New_York:20251104T123000
DTEND;TZID=America/New_York:20251104T131500
SUMMARY: California Bar Exam Presentation
DESCRIPTION: Information session on the California Bar Exam. Please bring y
 our own lunch.
X-ALT-DESC;FMTTYPE=text/html: <p>Information session on the California Bar 
 Exam.<br />Please bring your own lunch.</p>
LOCATION:WCC\; 1010 Classroom
GEO:0;0
ORGANIZER;CN="API User":MAILTO:api@law.harvard.edu
URL;VALUE=URI:https://hls.harvard.edu/events/california-bar-exam-presentati
 on-2/
END:VEVENT
BEGIN:VTIMEZONE
TZID:America/New_York
BEGIN:STANDARD
TZOFFSETFROM:-0400
TZOFFSETTO:-0500
DTSTART:20251102T060000
TZNAME:EST
END:STANDARD
END:VTIMEZONE
END:VCALENDAR
