BEGIN:VCALENDAR
VERSION:2.0
PRODID:-//Harvard Law School//NONSGML Events//EN
CALSCALE:GREGORIAN
X-WR-CALNAME:Harvard Law School - Events
X-ORIGINAL-URL:https://hls.harvard.edu/calendar/
X-WR-CALDESC:Harvard Law School - Events
BEGIN:VEVENT
UID:20251105T0051Z-1762303899.05-EO-731220-1@10.73.7.237
STATUS:CONFIRMED
DTSTAMP:20260424T003835Z
CREATED:20251104T205006Z
LAST-MODIFIED:20251104T205006Z
DTSTART;TZID=America/New_York:20251113T121500
DTEND;TZID=America/New_York:20251113T131500
SUMMARY: Austin Frerick on Barons: Money\, Power\, and the Corruption of Am
 erica’s Food Industry.
DESCRIPTION: Join HLS FoodSoc and the Antitrust Association for a conversat
 ion with Austin Frerick\, a policy expert in agriculture and antitrust. Aus
 tin will discuss his recent book\, Barons: Money\, Power\, and the Corrupti
 on of America’s Food Industry\, which profiles a series of powerful magnate
 s to illustrate the concentration of power in the global food system. Baron
 s is the story of […]
X-ALT-DESC;FMTTYPE=text/html: <div><div>Join HLS FoodSoc and the Antitrust 
 Association for a conversation with <a href="https://www.austinfrerick.com/
 barons">Austin Frerick</a>\, a policy expert in agriculture and antitrust. 
 Austin will discuss his recent book\, <i>Barons: Money\, Power\, and the Co
 rruption of America’s Food Industry\, </i>which profiles a series of powerf
 ul magnates to illustrate the concentration of power in the global food sys
 tem.</div></div><div></div><div><em>Barons</em> is the story of seven titan
 s of the food industry\, their rise to power\, and the consequences for wor
 kers\, eaters\, and democracy itself. Readers will meet a secretive German 
 family that took over the global coffee industry in less than a decade\, re
 lying on wealth traced back to the Nazis to gobble up countless independent
  roasters. They will visit the Disneyland of agriculture\, where school chi
 ldren ride trams through mechanized warehouses filled with tens of thousand
 s of cows that never see the light of day. And they will learn that in the 
 food business\, crime really does pay—especially when you can bribe and the
 n double-cross the president of Brazil. Barons paints a stark portrait of c
 orporate consolidation\, but it also shows that a fair\, healthy\, and pros
 perous food industry is possible—if we take back power from the barons who 
 have robbed us of it.</div><div></div><p><a href="https://docs.google.com/f
 orms/d/e/1FAIpQLSfaYSnJxaD-RgMqTUC8L0rUBelsasu6-wzcYpnYCA89trkcPw/viewform?
 usp=dialog">RSVP HERE. </a></p>
CATEGORIES:Book Talk
LOCATION:WCC\; 1010 Classroom
GEO:0;0
ORGANIZER;CN="Claire Rider":MAILTO:crider@jd27.law.harvard.edu
URL;VALUE=URI:https://hls.harvard.edu/events/austin-frerick-on-barons-money
 -power-and-the-corruption-of-americas-food-industry/
ATTACH;FMTTYPE=image/png:https://hls.harvard.edu/wp-content/uploads/2025/11/Austin-Frerick-Barons-Event-Flyer.png
END:VEVENT
BEGIN:VTIMEZONE
TZID:America/New_York
BEGIN:STANDARD
TZOFFSETFROM:-0400
TZOFFSETTO:-0500
DTSTART:20251102T060000
TZNAME:EST
END:STANDARD
END:VTIMEZONE
END:VCALENDAR
