BEGIN:VCALENDAR
VERSION:2.0
PRODID:-//Harvard Law School//NONSGML Events//EN
CALSCALE:GREGORIAN
X-WR-CALNAME:Harvard Law School - Events
X-ORIGINAL-URL:https://hls.harvard.edu/calendar/
X-WR-CALDESC:Harvard Law School - Events
BEGIN:VEVENT
UID:20241202T1926Z-1733167585.248-EO-680101-1@10.73.11.44
STATUS:CONFIRMED
DTSTAMP:20260423T070211Z
CREATED:20241202T184258Z
LAST-MODIFIED:20241202T184258Z
DTSTART;TZID=America/New_York:20241203T121500
DTEND;TZID=America/New_York:20241203T131500
SUMMARY: Artificial Intelligence and The Future of Privacy: A Conversation 
 with Microsoft Chief Privacy Officer and Former FTC Commissioner Julie Bril
 l
DESCRIPTION: Hosted by BKC\, moderated by Professor Aileen Nielsen\, and sp
 onsored by the Orrick Fund for the Colloquium on Cybersecurity/Cyberlaw – M
 icrosoft’s Chief Privacy Officer Julie Brill and HLS Visiting Professor Ail
 een Nielsen will discuss the current state of privacy regulation in the Uni
 ted States and throughout the world and anticipated legislative and regulat
 ory trends\, as […]
X-ALT-DESC;FMTTYPE=text/html: <div>Hosted by BKC\, moderated by Professor A
 ileen Nielsen\, and sponsored by the Orrick Fund for the Colloquium on Cybe
 rsecurity/Cyberlaw - Microsoft’s Chief Privacy Officer Julie Brill and HLS 
 Visiting Professor Aileen Nielsen will discuss the current state of privacy
  regulation in the United States and throughout the world and anticipated l
 egislative and regulatory trends\, as we come to terms with the regulation 
 and governance of AI.</div>
CATEGORIES:Speaker/Panel
LOCATION:Lewis International Law Center\, Room 514 (5th Floor)
GEO:0.000000;0.000000
ORGANIZER;CN="Nadiyah Shaheed":MAILTO:nshaheed@law.harvard.edu
URL;VALUE=URI:https://hls.harvard.edu/events/artificial-intelligence-and-th
 e-future-of-privacy-a-conversation-with-microsoft-chief-privacy-officer-and
 -former-ftc-commissioner-julie-brill/
ATTACH;FMTTYPE=image/jpeg:https://hls.harvard.edu/wp-content/uploads/2024/12/JB-12-3.jpg
END:VEVENT
BEGIN:VTIMEZONE
TZID:America/New_York
BEGIN:STANDARD
TZOFFSETFROM:-0400
TZOFFSETTO:-0500
DTSTART:20241103T060000
TZNAME:EST
END:STANDARD
END:VTIMEZONE
END:VCALENDAR
