BEGIN:VCALENDAR
VERSION:2.0
PRODID:-//Harvard Law School//NONSGML Events//EN
CALSCALE:GREGORIAN
X-WR-CALNAME:Harvard Law School - Events
X-ORIGINAL-URL:https://hls.harvard.edu/calendar/
X-WR-CALDESC:Harvard Law School - Events
BEGIN:VEVENT
UID:20241017T0146Z-1729129612.9217-EO-673951-1@10.73.10.108
STATUS:CONFIRMED
DTSTAMP:20260425T101408Z
CREATED:20241016T123732Z
LAST-MODIFIED:20241016T145503Z
DTSTART;TZID=America/New_York:20241028T123000
DTEND;TZID=America/New_York:20241028T131500
SUMMARY: ARJ Internship Event
DESCRIPTION: Join ARJ to discuss applying for summer internships in repro! 
 ARJ board members will talk about their experiences applying to and interni
 ng at organizations advocating and litigating for reproductive justice.
X-ALT-DESC;FMTTYPE=text/html: <p>Join ARJ to discuss applying for summer in
 ternships in repro! ARJ board members will talk about their experiences app
 lying to and interning at organizations advocating and litigating for repro
 ductive justice.</p>
LOCATION:WCC\; 2009 Classroom
GEO:0;0
ORGANIZER;CN="API User":MAILTO:api@law.harvard.edu
URL;VALUE=URI:https://hls.harvard.edu/events/arj-internship-event/
END:VEVENT
BEGIN:VTIMEZONE
TZID:America/New_York
BEGIN:DAYLIGHT
TZOFFSETFROM:-0500
TZOFFSETTO:-0400
DTSTART:20240310T070000
TZNAME:EDT
END:DAYLIGHT
END:VTIMEZONE
END:VCALENDAR
