BEGIN:VCALENDAR
VERSION:2.0
PRODID:-//Harvard Law School//NONSGML Events//EN
CALSCALE:GREGORIAN
X-WR-CALNAME:Harvard Law School - Events
X-ORIGINAL-URL:https://hls.harvard.edu/calendar/
X-WR-CALDESC:Harvard Law School - Events
BEGIN:VEVENT
UID:20250907T0240Z-1757212828.7286-EO-721183-1@10.73.0.12
STATUS:CONFIRMED
DTSTAMP:20260424T020557Z
CREATED:20250905T191559Z
LAST-MODIFIED:20250929T175733Z
DTSTART;TZID=America/New_York:20250930T123000
DTEND;TZID=America/New_York:20250930T133000
SUMMARY: Anatomy of a Deal: In-Depth Look at Corporate Practice in NY
DESCRIPTION: WCC\; 1019 Classroom  What goes into working on a deal? What d
 o corporate lawyers actually do? While 1L classes may not cover transaction
 al work\, it is the bread and butter of many law firms.\n\nJoin attorneys f
 rom Cleary Gottlieb in this interactive session\, as they dissect the anato
 my of a $701 million M&A deal between Goodyear and Japanese-based Sumitomo 
 Rubber.
X-ALT-DESC;FMTTYPE=text/html: <p>What goes into working on a deal? What do 
 corporate lawyers actually do? While 1L classes may not cover transactional
  work\, it is the bread and butter of many law firms.</p><p>Join attorneys 
 from Cleary Gottlieb in this interactive session\, as they dissect the anat
 omy of a $701 million M&A deal between Goodyear and Japanese-based Sumitomo
  Rubber. The team will offer behind-the-scenes insights into the strategy t
 hat shaped the cross-border transaction\, and demonstrate how a variety of 
 practice groups (including M&A\, antitrust\, intellectual property\, and ta
 x) collaborated across specialties to deliver sophisticated solutions for c
 lients.</p><p><a href="https://law-harvard-csm.symplicity.com/students/app/
 events?csm_event_type=workshop">RSVP in CSM\; lunch will be provided.</a></
 p><p>Please contact osc@law.harvard.edu with any dietary restrictions at le
 ast three business days prior to the event.</p><p>Persons with disabilities
  who wish to request accommodations or who have questions about access\, pl
 ease contact ocs@law.harvard.edu in advance of the event.</p><p> </p>
CATEGORIES:Career Event
LOCATION:WCC 1019
GEO:0.000000;0.000000
ORGANIZER;CN="Ashli J Black":MAILTO:ablack@law.harvard.edu
URL;VALUE=URI:https://hls.harvard.edu/events/anatomy-of-a-deal-in-depth-loo
 k-at-corporate-practice-in-ny/
END:VEVENT
BEGIN:VTIMEZONE
TZID:America/New_York
BEGIN:DAYLIGHT
TZOFFSETFROM:-0500
TZOFFSETTO:-0400
DTSTART:20250309T070000
TZNAME:EDT
END:DAYLIGHT
END:VTIMEZONE
END:VCALENDAR
