BEGIN:VCALENDAR
VERSION:2.0
PRODID:-//Harvard Law School//NONSGML Events//EN
CALSCALE:GREGORIAN
X-WR-CALNAME:Harvard Law School - Events
X-ORIGINAL-URL:https://hls.harvard.edu/calendar/
X-WR-CALDESC:Harvard Law School - Events
BEGIN:VEVENT
UID:20250916T0150Z-1757987446.323-EO-721619-1@10.73.3.241
STATUS:CONFIRMED
DTSTAMP:20260423T200423Z
CREATED:20250910T132356Z
LAST-MODIFIED:20250915T152711Z
DTSTART;TZID=America/New_York:20250925T080000
DTEND;TZID=America/New_York:20250925T100000
SUMMARY: Alumni in Residence with Reginald Brown J.D. ’96 of Kirkland & Ell
 is LLP
DESCRIPTION: Reginald “Reg” Brown provides investigations-related guidance\
 , strategic counsel and crisis management assistance to a broad range of co
 mpanies and senior executives confronting challenges and opportunities at t
 he intersection of government\, law\, media and public policy. Reg is Chamb
 ers Band One rated in both Crisis Management and Congressional Investigatio
 ns and has assisted leading institutions and high-profile individual client
 s with more than one hundred and fifty congressional inquiries\, as well as
  numerous federal\, state and global government investigations and crisis a
 voidance and mitigation matters. Click to register.
X-ALT-DESC;FMTTYPE=text/html: <p>Thursday\, September 25\, 2025\, from 8:00
  a.m.- 10:00 a.m. EST</p><p>The Alumni in Residence program connects curren
 t HLS students with accomplished HLS alumni for one-on-one career mentoring
  and advice. You’re invited to meet with Reginald “Reg” Brown J.D. '96 duri
 ng their virtual office hours. <a href="https://calendly.com/alumnicenter/a
 lumni-in-residence-with-reginald-brown">Sign up for a 20-minute Zoom appoin
 tment.</a></p><p> </p><p>Kirkland & Ellis partner Reginald “Reg” Brown prov
 ides investigations-related guidance\, strategic counsel and crisis managem
 ent assistance to a broad range of companies and senior executives confront
 ing challenges and opportunities at the intersection of government\, law\, 
 media and public policy. Reg is Chambers Band One rated in both Crisis Mana
 gement and Congressional Investigations and has assisted leading institutio
 ns and high-profile individual clients with more than one hundred and fifty
  congressional inquiries\, as well as numerous federal\, state and global g
 overnment investigations and crisis avoidance and mitigation matters.</p><p
 >Reg also leads teams of lawyers responding to some of the most challenging
  Department of Justice (DOJ)\, State Attorneys General and other regulatory
  or enforcement matters. Many of his clients are among the world's most pro
 minent banks\, hedge funds\, private equity and venture firms\, energy comp
 anies\, government contractors\, healthcare institutions\, technology firms
 \, and Universities as well as CEOs and high-ranking public officials. Reg 
 has also assisted prospective and incumbent high-level public officials in 
 connection with complex ethics agreements and governmental controversies.</
 p><p>Reg previously served in the White House Counsel's office under Presid
 ent George W. Bush\, where he was the White House's principal legal liaison
  to the Departments of Treasury and Housing and Urban Development. Reg also
  served as a counselor for the White House Office of Political Affairs\, Pr
 esidential Personnel Office and the National Economic Council. Reg previous
 ly served as Deputy General Counsel to Florida Governor Jeb Bush\, Special 
 Assistant to the CEO of Nationwide Insurance\, and as a Peace Corps Volunte
 er in the Federated States of Micronesia.</p><p>Reg is an honors graduate o
 f Yale and Harvard Law School. He serves on the nonprofit boards of the Geo
 rge W. Bush Presidential Center\, the Property and Environment Research Cen
 ter and the Foundation for Excellence in Education. Reg also serves on the 
 board of Blackstone\, the world’s largest private equity firm.</p>
LOCATION:Zoom
GEO:40.712728;-74.006015
ORGANIZER;CN="Jeff Newton":MAILTO:jnewton@law.harvard.edu
URL;VALUE=URI:https://hls.harvard.edu/events/alumni-in-residence-with-reg-b
 rown-j-d-96-of-kirkland-ellis-llp/
ATTACH;FMTTYPE=image/jpeg:https://hls.harvard.edu/wp-content/uploads/2025/09/RegHeadShotDraper-scaled.jpg
END:VEVENT
BEGIN:VTIMEZONE
TZID:America/New_York
BEGIN:DAYLIGHT
TZOFFSETFROM:-0500
TZOFFSETTO:-0400
DTSTART:20250309T070000
TZNAME:EDT
END:DAYLIGHT
END:VTIMEZONE
END:VCALENDAR
