BEGIN:VCALENDAR
VERSION:2.0
PRODID:-//Harvard Law School//NONSGML Events//EN
CALSCALE:GREGORIAN
X-WR-CALNAME:Harvard Law School - Events
X-ORIGINAL-URL:https://hls.harvard.edu/calendar/
X-WR-CALDESC:Harvard Law School - Events
BEGIN:VEVENT
UID:20250915T2124Z-1757971472.7311-EO-721711-1@10.73.0.82
STATUS:CONFIRMED
DTSTAMP:20260423T173303Z
CREATED:20250910T132550Z
LAST-MODIFIED:20251028T133212Z
DTSTART;TZID=America/New_York:20251028T120000
DTEND;TZID=America/New_York:20251028T140000
SUMMARY: Alumni in Residence with Jeffrey Hawkins J.D. ’97 of Bain Capital 
 Credit\, L.P.
DESCRIPTION: Jeff Hawkins joined Bain Capital Credit\, L.P. in 2001 and is 
 a partner working across Credit\, Special Situations\, and Insurance. He is
  a member of the Credit Committee and the Risk & Oversight Committee\, and 
 serves as Chairman of Bain Capital Specialty Finance\, Inc.\, a registered 
 business development company. Previously\, Jeff was at Ropes & Gray LLP. Cl
 ick to register.
X-ALT-DESC;FMTTYPE=text/html: <p>Tuesday\, October 28\, 2025\, from 12:00 p
 .m.- 2:00 p.m. EST</p><p>The Alumni in Residence program connects current H
 LS students with accomplished HLS alumni for one-on-one career mentoring an
 d advice. You’re invited to meet with Jeffrey Hawkins J.D. '97 during their
  virtual office hours. <a href="https://calendly.com/alumnicenter/alumni-in
 -residence-with-jeffhawkins">Sign up for a 20-minute Zoom appointment.</a><
 /p><p>Jeff Hawkins joined Bain Capital Credit\, L.P. in 2001 and is a partn
 er working across Credit\, Special Situations\, and Insurance. He is a memb
 er of the Credit Committee and the Risk & Oversight Committee\, and serves 
 as chairman of Bain Capital Specialty Finance\, Inc.\, a registered busines
 s development company. Previously\, Jeff was at Ropes & Gray LLP.</p><p>He 
 is active philanthropically: he serves as Chair of the Boston Public Librar
 y Fund\, sits on the Board of Trustees of the Boston Public Library\, and i
 s a member of the Board of Trustees of Trinity College. Jeff received a J.D
 . from Harvard Law School and a B.A. from Trinity College.</p>
LOCATION:Zoom
GEO:40.712728;-74.006015
ORGANIZER;CN="Jeff Newton":MAILTO:jnewton@law.harvard.edu
URL;VALUE=URI:https://hls.harvard.edu/events/alumni-in-residence-with-jeff-
 hawkins-j-d-97-of-bain-capital-credit-l-p/
ATTACH;FMTTYPE=image/jpeg:https://hls.harvard.edu/wp-content/uploads/2025/09/Picture2.jpg
END:VEVENT
BEGIN:VTIMEZONE
TZID:America/New_York
BEGIN:DAYLIGHT
TZOFFSETFROM:-0500
TZOFFSETTO:-0400
DTSTART:20250309T070000
TZNAME:EDT
END:DAYLIGHT
END:VTIMEZONE
END:VCALENDAR
