BEGIN:VCALENDAR
VERSION:2.0
PRODID:-//Harvard Law School//NONSGML Events//EN
CALSCALE:GREGORIAN
X-WR-CALNAME:Harvard Law School - Events
X-ORIGINAL-URL:https://hls.harvard.edu/calendar/
X-WR-CALDESC:Harvard Law School - Events
BEGIN:VEVENT
UID:20250916T0149Z-1757987378.6097-EO-721875-1@10.73.0.97
STATUS:CONFIRMED
DTSTAMP:20260423T224042Z
CREATED:20250910T132605Z
LAST-MODIFIED:20250915T152832Z
DTSTART;TZID=America/New_York:20251030T100000
DTEND;TZID=America/New_York:20251030T120000
SUMMARY: Alumni in Residence with Evan Simpson J.D. ’10 of Sullivan & Cromw
 ell LLP
DESCRIPTION: Evan Simpson J.D. '10 is a partner in Sullivan & Cromwell LLP’
 s General Practice Group based in London. He represents a range of European
  corporate clients in connection with both SEC-registered and exempt offeri
 ngs to U.S. investors. His experience also includes advising European clien
 ts on some of their most significant and transformational M&A matters. Clic
 k to register.
X-ALT-DESC;FMTTYPE=text/html: <p>Thursday\, October 30\, 2025\, from 10:00 
 a.m.- 12:00 p.m. EST</p><p>The Alumni in Residence program connects current
  HLS students with accomplished HLS alumni for one-on-one career mentoring 
 and advice. You’re invited to meet with Evan Simpson J.D. '10 during their 
 virtual office hours. <a href="https://calendly.com/alumnicenter/alumni-in-
 residence-with-evansimpson">Sign up for a 20-minute Zoom appointment.</a></
 p><p> </p><p>Evan Simpson is a partner in Sullivan & Cromwell LLP’s General
  Practice Group based in London. He advises European corporates on U.S. cap
 ital markets transactions—both SEC-registered and Rule 144A/Section 3(c)(7)
  exempt offerings—and counsels boards and executives on complex\, often cro
 ss-border M&A.</p><p>Evan’s recent matters include representing the FTX Deb
 tors in the sale of their Japan business to bitFlyer Holdings\; advising St
 ellantis on its $100 million anchor investment in ACG Acquisition Company L
 imited\; and acting for Stellantis on the sale of its Brazilian and Portugu
 ese cast-iron components businesses to Tupy S.A. and the agreed sale of its
  Mexican cast-iron components business to Cummins Inc.</p><p>On the capital
  markets side\, he has advised underwriters on more than C$20 billion of OM
 ERS Finance Trust note offerings\, and issuers including Allianz SE and UBS
  Group AG.</p>
LOCATION:Zoom
GEO:40.712728;-74.006015
ORGANIZER;CN="Jeff Newton":MAILTO:jnewton@law.harvard.edu
URL;VALUE=URI:https://hls.harvard.edu/events/alumni-in-residence-with-evan-
 simpson-j-d-10-of-sullivan-cromwell-llp/
ATTACH;FMTTYPE=image/png:https://hls.harvard.edu/wp-content/uploads/2025/09/Screenshot-2025-09-09-102407.png
END:VEVENT
BEGIN:VTIMEZONE
TZID:America/New_York
BEGIN:DAYLIGHT
TZOFFSETFROM:-0500
TZOFFSETTO:-0400
DTSTART:20250309T070000
TZNAME:EDT
END:DAYLIGHT
END:VTIMEZONE
END:VCALENDAR
