BEGIN:VCALENDAR
VERSION:2.0
PRODID:-//Harvard Law School//NONSGML Events//EN
CALSCALE:GREGORIAN
X-WR-CALNAME:Harvard Law School - Events
X-ORIGINAL-URL:https://hls.harvard.edu/calendar/
X-WR-CALDESC:Harvard Law School - Events
BEGIN:VEVENT
UID:20250916T0150Z-1757987439.3424-EO-721872-1@10.73.0.12
STATUS:CONFIRMED
DTSTAMP:20260423T224113Z
CREATED:20250910T132622Z
LAST-MODIFIED:20250915T152900Z
DTSTART;TZID=America/New_York:20251030T140000
DTEND;TZID=America/New_York:20251030T160000
SUMMARY: Alumni in Residence with Andrew Heinrich J.D. ’20 of Project Rouss
 eau Inc
DESCRIPTION: Andrew Heinrich is Founder and Executive Director of Project R
 ousseau\, a US charity that empowers underserved youth from communities in 
 the highest need from around the world to reach their full potential by pro
 viding comprehensive legal services\, social services\, and educational pro
 gramming. He serves as Supervising Attorney of Immigration Legal Services a
 t Project Rousseau\, which provides full-scope pro-bono immigration legal s
 ervices to youth and families. Click to register.
X-ALT-DESC;FMTTYPE=text/html: <p>Thursday\, October 30\, 2025\, from 2:00 p
 .m.- 4:00 p.m. EST</p><p>The Alumni in Residence program connects current H
 LS students with accomplished HLS alumni for one-on-one career mentoring an
 d advice. You’re invited to meet with Andrew Heinrich J.D. '20 during their
  virtual office hours. <a href="https://calendly.com/alumnicenter/alumni-in
 -residence-with-andrewheinrich">Sign up for a 20-minute Zoom appointment.</
 a></p><p>Andrew Heinrich is Founder and Executive Director of Project Rouss
 eau Inc\, a US charity that empowers underserved youth from communities in 
 the highest need from around the world to reach their full potential by pro
 viding comprehensive legal services\, social services\, and educational pro
 gramming. He serves as Supervising Attorney of Immigration Legal Services a
 t Project Rousseau\, which provides full-scope pro-bono immigration legal s
 ervices to youth and families.</p><p>Andrew also serves on the Faculty of C
 olumbia University\, with a primary appointment in the School of Internatio
 nal and Public Affairs. His teaching and research focus on human rights\, r
 efugee issues\, and public international law. His work has recently been pu
 blished in Foreign Affairs\, the New England Journal of Medicine\, and by O
 xford University Press and Johns Hopkins University Press.</p>
LOCATION:Zoom
GEO:40.712728;-74.006015
ORGANIZER;CN="Jeff Newton":MAILTO:jnewton@law.harvard.edu
URL;VALUE=URI:https://hls.harvard.edu/events/alumni-in-residence-with-andre
 w-heinrich-j-d-20-of-project-rousseau-inc/
ATTACH;FMTTYPE=image/png:https://hls.harvard.edu/wp-content/uploads/2025/09/pic.png
END:VEVENT
BEGIN:VTIMEZONE
TZID:America/New_York
BEGIN:DAYLIGHT
TZOFFSETFROM:-0500
TZOFFSETTO:-0400
DTSTART:20250309T070000
TZNAME:EDT
END:DAYLIGHT
END:VTIMEZONE
END:VCALENDAR
