BEGIN:VCALENDAR
VERSION:2.0
PRODID:-//Harvard Law School//NONSGML Events//EN
CALSCALE:GREGORIAN
X-WR-CALNAME:Harvard Law School - Events
X-ORIGINAL-URL:https://hls.harvard.edu/calendar/
X-WR-CALDESC:Harvard Law School - Events
BEGIN:VEVENT
UID:20250325T0017Z-1742861844.7249-EO-695888-1@10.73.10.94
STATUS:CONFIRMED
DTSTAMP:20260423T163845Z
CREATED:20250324T142501Z
LAST-MODIFIED:20250324T142501Z
DTSTART;TZID=America/New_York:20250423T123000
DTEND;TZID=America/New_York:20250423T133000
SUMMARY: Algorithmic Collusion by Large Language Models
DESCRIPTION: BKC Spring Speaker Series Sara Fish’s research focuses on topi
 cs at the intersection of economics and artificial intelligence. Join her a
 t BKC as she shares emerging research on Large Language Models (LLMs)\, and
  their promises\, limitations\, and risks when used for core economic tasks
  such as pricing and bidding. Her recent work\, joint with Yannai […]
X-ALT-DESC;FMTTYPE=text/html: <h5><a href="https://cyber.harvard.edu/story/
 2025-02/berkman-klein-announces-spring-speaker-series">BKC Spring Speaker S
 eries</a></h5><p>Sara Fish’s research focuses on topics at the intersection
  of economics and artificial intelligence. Join her at BKC as she shares em
 erging research on Large Language Models (LLMs)\, and their promises\, limi
 tations\, and risks when used for core economic tasks such as pricing and b
 idding. Her recent work\, joint with Yannai Gonczarowski and Ran Shorrer\, 
 shows that LLM agents engage in autonomous algorithmic collusion in pricing
  and bidding settings. These findings uncover unique challenges to any futu
 re regulation of LLM-based pricing agents\, and black-box pricing agents mo
 re broadly.</p>
CATEGORIES:Speaker/Panel
LOCATION:Berkman Klein Multipurpose Room (Room 515)
GEO:0.000000;0.000000
ORGANIZER;CN="Jessica Weaver":MAILTO:jweaver@law.harvard.edu
URL;VALUE=URI:https://hls.harvard.edu/events/algorithmic-collusion-by-large
 -language-models/
ATTACH;FMTTYPE=image/png:https://hls.harvard.edu/wp-content/uploads/2025/03/Screenshot-2025-03-24-at-9.57.11 AM.png
END:VEVENT
BEGIN:VTIMEZONE
TZID:America/New_York
BEGIN:DAYLIGHT
TZOFFSETFROM:-0500
TZOFFSETTO:-0400
DTSTART:20250309T070000
TZNAME:EDT
END:DAYLIGHT
END:VTIMEZONE
END:VCALENDAR
