BEGIN:VCALENDAR
VERSION:2.0
PRODID:-//Harvard Law School//NONSGML Events//EN
CALSCALE:GREGORIAN
X-WR-CALNAME:Harvard Law School - Events
X-ORIGINAL-URL:https://hls.harvard.edu/calendar/
X-WR-CALDESC:Harvard Law School - Events
BEGIN:VEVENT
UID:20251022T2130Z-1761168625.8808-EO-729530-1@10.73.7.213
STATUS:CONFIRMED
DTSTAMP:20260424T035849Z
CREATED:20251022T203209Z
LAST-MODIFIED:20251022T203209Z
DTSTART;TZID=America/New_York:20251105T123000
DTEND;TZID=America/New_York:20251105T133000
SUMMARY: AI Triad: A Dialogue Across Differences
DESCRIPTION: Artificial intelligence isn’t just a technology—it’s a battleg
 round of competing values\, incentives\, and worldviews. Accelerationists s
 ee AI as a force for human progress\, unlocking new frontiers of innovation
  and economic growth. Safetyists warn that its rapid development could unle
 ash existential risks that outpace our capacity for control. Skeptics take 
 issue with salvation and doomsday narratives\, […]
X-ALT-DESC;FMTTYPE=text/html: <p>Artificial intelligence isn’t just a techn
 ology—it’s a battleground of competing values\, incentives\, and worldviews
 .</p><p>Accelerationists see AI as a force for human progress\, unlocking n
 ew frontiers of innovation and economic growth. Safetyists warn that its ra
 pid development could unleash existential risks that outpace our capacity f
 or control. Skeptics take issue with salvation and doomsday narratives\, in
 stead grappling with how AI’s deployment amplifies existing social and econ
 omic inequalities.Too often\, these camps speak past one another. Yet to ch
 art a responsible path forward\, their dialogue is essential.</p><p>This co
 nversation brings together Jason Crawford (Roots of Progress)\, Amba Kak (A
 I Now Institute)\, and Brian McGrail (Center for AI Safety Action Fund) to 
 explore the fault lines and shared assumptions among these major schools of
  thought\, what we at the Berkman Klein Center call the AI Triad. Together\
 , they’ll examine where accelerationists\, safetyists\, and skeptics most p
 roductively disagree\, and where their goals may unexpectedly align.</p><p>
 Moderated by BKC Faculty Director Jonathan Zittrain\, this event is part of
  our ongoing effort to foster dialogue across divided intellectual communit
 ies and to surface the moral\, technological\, and empirical premises drivi
 ng the AI debate.</p>
CATEGORIES:Speaker/Panel
LOCATION:Lewis Hall\, 5th floor at the Berkman Klein Center's Multi-Purpose Room 515
GEO:0.000000;0.000000
ORGANIZER;CN="Jessica Weaver":MAILTO:jweaver@law.harvard.edu
URL;VALUE=URI:https://hls.harvard.edu/events/ai-triad-a-dialogue-across-dif
 ferences/
ATTACH;FMTTYPE=image/png:https://hls.harvard.edu/wp-content/uploads/2025/10/3Speakers_16x9-2.png
END:VEVENT
BEGIN:VTIMEZONE
TZID:America/New_York
BEGIN:STANDARD
TZOFFSETFROM:-0400
TZOFFSETTO:-0500
DTSTART:20251102T060000
TZNAME:EST
END:STANDARD
END:VTIMEZONE
END:VCALENDAR
