BEGIN:VCALENDAR
VERSION:2.0
PRODID:-//Harvard Law School//NONSGML Events//EN
CALSCALE:GREGORIAN
X-WR-CALNAME:Harvard Law School - Events
X-ORIGINAL-URL:https://hls.harvard.edu/calendar/
X-WR-CALDESC:Harvard Law School - Events
BEGIN:VEVENT
UID:20250818T1757Z-1755539868.1432-EO-717524-1@10.73.5.249
STATUS:CONFIRMED
DTSTAMP:20260423T173400Z
CREATED:20250818T141002Z
LAST-MODIFIED:20260323T211536Z
DTSTART;TZID=America/New_York:20251027T121500
DTEND;TZID=America/New_York:20251027T131500
SUMMARY: The Work of the Israeli Supreme Court in Times of National Emergen
 cy: A Talk by Justice Khaled Kabub\, Israeli Supreme Court
DESCRIPTION: Khaled Kabub is an Israeli-Arab judge and became the Supreme C
 ourt’s first Muslim member when he was appointed as Justice in 2022. In1997
  he was appointed as a judge at the Magistrate’s Court in Netanya. In 2003\
 , he was appointed as a judge at the District Court in Tel Aviv. Between 20
 03-2021\, he taught at […]
X-ALT-DESC;FMTTYPE=text/html: <p>Khaled Kabub is an Israeli-Arab judge and 
 became the Supreme Court’s first Muslim member when he was appointed as Jus
 tice in 2022.  In1997 he was appointed as a judge at the Magistrate’s Court
  in Netanya. In 2003\, he was appointed as a judge at the District Court in
  Tel Aviv. Between 2003-2021\, he taught at Bar-Ilan University in the fiel
 d of corporations\, as well as at Ono Academic College. In 2011\, he served
  as a judge in the Economic Division of the Tel Aviv District Court. In Sep
 tember 2017\, he was appointed as Deputy President of the Tel Aviv-Jaffa Di
 strict Court. In May 2022\, he was appointed as a Justice of the Supreme Co
 urt and received a doctorate in law from Bar-Ilan University with a dissert
 ation on “The Dividend Puzzle.” Justice Kabub has published a wide variety 
 of legal articles primarily in the field of corporate law.</p>
LOCATION:Hauser Hall\; 102 Malkin Classroom
GEO:0;0
ORGANIZER;CN="API User":MAILTO:api@law.harvard.edu
URL;VALUE=URI:https://hls.harvard.edu/events/a-talk-by-justice-khaled-kabub
 -israeli-supreme-court/
END:VEVENT
BEGIN:VTIMEZONE
TZID:America/New_York
BEGIN:DAYLIGHT
TZOFFSETFROM:-0500
TZOFFSETTO:-0400
DTSTART:20250309T070000
TZNAME:EDT
END:DAYLIGHT
END:VTIMEZONE
END:VCALENDAR
