BEGIN:VCALENDAR
VERSION:2.0
PRODID:-//Harvard Law School//NONSGML Events//EN
CALSCALE:GREGORIAN
X-WR-CALNAME:Harvard Law School - Events
X-ORIGINAL-URL:https://hls.harvard.edu/calendar/
X-WR-CALDESC:Harvard Law School - Events
BEGIN:VEVENT
UID:20250124T1558Z-1737734336.7001-EO-685684-1@10.73.8.229
STATUS:CONFIRMED
DTSTAMP:20260419T110540Z
CREATED:20250122T200155Z
LAST-MODIFIED:20250204T180609Z
DTSTART;TZID=America/New_York:20250204T123000
DTEND;TZID=America/New_York:20250204T130000
RDATE;TZID=America/New_York:20250212T123000,20250312T123000
SUMMARY: 2L Clerkship & Internship Group Q&A
DESCRIPTION: HLS applicants may be able to learn from each other’s general 
 questions (while saving anything sensitive for an individual appointment). 
 Questions may be about summer internships with judges too if you wish. Brin
 g any questions and your lunch to a Q&A session with OCS clerkship advisers
 . This program is being run on three dates: February […]
X-ALT-DESC;FMTTYPE=text/html: <p>HLS applicants may be able to learn from e
 ach other’s general questions (while saving anything sensitive for an indiv
 idual appointment). Questions may be about summer internships with judges t
 oo if you wish. Bring any questions and your lunch to a Q&A session with OC
 S clerkship advisers.</p><p>This program is being run on three dates:</p><u
 l><li><a href="https://hls.harvard.edu/events/2l-clerkship-group-qa/?occurr
 ence=7774">February 4</a> - 12:30-1:00 pm ET\, by <a href="https://harvard.
 zoom.us/my/clerkships" target="_blank" rel="noopener">Zoom</a>.</li><li><a 
 href="https://hls.harvard.edu/events/2l-clerkship-group-qa/?occurrence=7775
 ">February 12</a> - WCC 1015</li><li><a href="https://hls.harvard.edu/event
 s/2l-clerkship-group-qa/?occurrence=7776">March 12</a> - WCC 1015</li></ul>
CATEGORIES:Career Event
ORGANIZER;CN="Ashli J Black":MAILTO:ablack@law.harvard.edu
URL;VALUE=URI:https://hls.harvard.edu/events/2l-clerkship-group-qa/
END:VEVENT
BEGIN:VEVENT
UID:20250124T1558Z-1737734336.7001-EO-685684-1@10.73.8.229
STATUS:CONFIRMED
DTSTAMP:20260419T110540Z
CREATED:20250122T200155Z
LAST-MODIFIED:20250204T180609Z
DTSTART;TZID=America/New_York:20250204T123000
DTEND;TZID=America/New_York:20250204T130000
RDATE;TZID=America/New_York:20250212T123000,20250312T123000
SUMMARY: 2L Clerkship & Internship Group Q&A
DESCRIPTION: HLS applicants may be able to learn from each other’s general 
 questions (while saving anything sensitive for an individual appointment). 
 Questions may be about summer internships with judges too if you wish. Brin
 g any questions and your lunch to a Q&A session with OCS clerkship advisers
 . This program is being run on three dates: February […]
X-ALT-DESC;FMTTYPE=text/html: <p>HLS applicants may be able to learn from e
 ach other’s general questions (while saving anything sensitive for an indiv
 idual appointment). Questions may be about summer internships with judges t
 oo if you wish. Bring any questions and your lunch to a Q&A session with OC
 S clerkship advisers.</p><p>This program is being run on three dates:</p><u
 l><li><a href="https://hls.harvard.edu/events/2l-clerkship-group-qa/?occurr
 ence=7774">February 4</a> - 12:30-1:00 pm ET\, by <a href="https://harvard.
 zoom.us/my/clerkships" target="_blank" rel="noopener">Zoom</a>.</li><li><a 
 href="https://hls.harvard.edu/events/2l-clerkship-group-qa/?occurrence=7775
 ">February 12</a> - WCC 1015</li><li><a href="https://hls.harvard.edu/event
 s/2l-clerkship-group-qa/?occurrence=7776">March 12</a> - WCC 1015</li></ul>
CATEGORIES:Career Event
ORGANIZER;CN="Ashli J Black":MAILTO:ablack@law.harvard.edu
URL;VALUE=URI:https://hls.harvard.edu/events/2l-clerkship-group-qa/
END:VEVENT
BEGIN:VEVENT
UID:20250124T1558Z-1737734336.7001-EO-685684-1@10.73.8.229
STATUS:CONFIRMED
DTSTAMP:20260419T110540Z
CREATED:20250122T200155Z
LAST-MODIFIED:20250204T180609Z
DTSTART;TZID=America/New_York:20250204T123000
DTEND;TZID=America/New_York:20250204T130000
RDATE;TZID=America/New_York:20250212T123000,20250312T123000
SUMMARY: 2L Clerkship & Internship Group Q&A
DESCRIPTION: HLS applicants may be able to learn from each other’s general 
 questions (while saving anything sensitive for an individual appointment). 
 Questions may be about summer internships with judges too if you wish. Brin
 g any questions and your lunch to a Q&A session with OCS clerkship advisers
 . This program is being run on three dates: February […]
X-ALT-DESC;FMTTYPE=text/html: <p>HLS applicants may be able to learn from e
 ach other’s general questions (while saving anything sensitive for an indiv
 idual appointment). Questions may be about summer internships with judges t
 oo if you wish. Bring any questions and your lunch to a Q&A session with OC
 S clerkship advisers.</p><p>This program is being run on three dates:</p><u
 l><li><a href="https://hls.harvard.edu/events/2l-clerkship-group-qa/?occurr
 ence=7774">February 4</a> - 12:30-1:00 pm ET\, by <a href="https://harvard.
 zoom.us/my/clerkships" target="_blank" rel="noopener">Zoom</a>.</li><li><a 
 href="https://hls.harvard.edu/events/2l-clerkship-group-qa/?occurrence=7775
 ">February 12</a> - WCC 1015</li><li><a href="https://hls.harvard.edu/event
 s/2l-clerkship-group-qa/?occurrence=7776">March 12</a> - WCC 1015</li></ul>
CATEGORIES:Career Event
ORGANIZER;CN="Ashli J Black":MAILTO:ablack@law.harvard.edu
URL;VALUE=URI:https://hls.harvard.edu/events/2l-clerkship-group-qa/
END:VEVENT
BEGIN:VTIMEZONE
TZID:America/New_York
BEGIN:STANDARD
TZOFFSETFROM:-0400
TZOFFSETTO:-0500
DTSTART:20241103T060000
TZNAME:EST
END:STANDARD
BEGIN:DAYLIGHT
TZOFFSETFROM:-0500
TZOFFSETTO:-0400
DTSTART:20250309T070000
TZNAME:EDT
END:DAYLIGHT
END:VTIMEZONE
END:VCALENDAR
