BEGIN:VCALENDAR
VERSION:2.0
PRODID:-//Harvard Law School//NONSGML Events//EN
CALSCALE:GREGORIAN
X-WR-CALNAME:Harvard Law School - Events
X-ORIGINAL-URL:https://hls.harvard.edu/calendar/
X-WR-CALDESC:Harvard Law School - Events
BEGIN:VEVENT
UID:20251017T1546Z-1760715985.6549-EO-728692-1@10.73.7.213
STATUS:CONFIRMED
DTSTAMP:20260423T192138Z
CREATED:20251017T151004Z
LAST-MODIFIED:20251017T151004Z
DTSTART;TZID=America/New_York:20251028T123000
DTEND;TZID=America/New_York:20251028T132500
SUMMARY: 2025 DAV Distinguished Speaker Series at Harvard Law School – Corr
 ecting the Record: Veterans’ Voices on Discharge Upgrades
DESCRIPTION: Please join us for an important conversation about the causes 
 and consequences of wrongful military discharges. Each of our panelists is 
 a veteran who experienced a wrongful discharge\, suffered the harmful effec
 ts of that discharge over many years\, and then finally obtained a measure 
 of justice by pursuing a discharge upgrade. The voices of these […]
X-ALT-DESC;FMTTYPE=text/html: <p>Please join us for an important conversati
 on about the causes and consequences of wrongful military discharges. Each 
 of our panelists is a veteran who experienced a wrongful discharge\, suffer
 ed the harmful effects of that discharge over many years\, and then finally
  obtained a measure of justice by pursuing a discharge upgrade. The voices 
 of these veterans tell a powerful story and underscore the urgent work to b
 e done.</p><p>Opening remarks by: <a href="https://www.dav.org/barry-jesino
 ski/">Barry Jesinoski</a>\, <a href="https://www.dav.org/">DAV</a> National
  Adjutant</p><p>Panel conversation moderated by: <a href="https://legalserv
 icescenter.org/team_member/dana-montalto/">Dana Montalto</a>\, Lecturer-on-
 Law\, Senior Clinical Instructor\, and Associate Director\, Veterans Legal 
 Clinic\, Harvard Law School</p><p>About the <a href="https://www.dav.org/">
 DAV</a> Distinguished Speaker Series: Now in its 11th year\, the DAV Distin
 guished Speakers Series provides an annual forum at Harvard Law School for 
 public servants\, thought leaders and others to speak on issues of importan
 ce to the nation’s veterans. The series recognizes leading figures in the v
 eterans’ community\, raises awareness about the needs of veterans\, sparks 
 discussion about the public policies that most impact veterans—particularly
  those with service-connected disabilities—and serves as a call to action f
 or all to help ensure the nation honors its commitments to those who’ve ser
 ved. The Speaker Series is co-hosted by the Veterans Legal Clinic at the Le
 gal Services Center of Harvard Law School and the Harvard Law School Armed 
 Forces Association. For information about past convenings\, please visit th
 e DAV Distinguished Speakers Series webpage.</p>
CATEGORIES:Speaker/Panel
LOCATION:Zoom
GEO:40.712728;-74.006015
ORGANIZER;CN="Malanee Erenna":MAILTO:merenna@law.harvard.edu
URL;VALUE=URI:https://hls.harvard.edu/events/2025-dav-distinguished-speaker
 -series-at-harvard-law-school-correcting-the-record-veterans-voices-on-disc
 harge-upgrades/
ATTACH;FMTTYPE=image/jpeg:https://hls.harvard.edu/wp-content/uploads/2025/10/SMG_HarvardSpeakers_FXL_Le.jpg
END:VEVENT
BEGIN:VTIMEZONE
TZID:America/New_York
BEGIN:DAYLIGHT
TZOFFSETFROM:-0500
TZOFFSETTO:-0400
DTSTART:20250309T070000
TZNAME:EDT
END:DAYLIGHT
END:VTIMEZONE
END:VCALENDAR
